Workbook
Name ExternalData_1: 'Menot (E_K)'!#REF!

Sheet Saannot
A1: Saannot
A2: Ohje: Syötä poronlisäkäsittelyerien vasat/raavaat (kpl) vihreisiin soluihin. %Kertoimet (%/vasa, %/raavas) alla ovat suntaa antavia ja niitä käyttäjä voi muuttaa, voit myös käyttää Kpl/ruho. Tulot-välilehti käyttää kg automaattisesti.
A4: Käsittelyerä | B4: Vasat (kpl) | C4: Raavaat (kpl) | D4: Yhteensä (kpl)
A5: 1 | B5: 0 | C5: 0 | D5: =N(B5)+N(C5) -> 0
A6: 2 | B6: 0 | C6: 0 | D6: =N(B6)+N(C6) -> 0
A7: 3 | B7: 0 | C7: 0 | D7: =N(B7)+N(C7) -> 0
A8: 4 | B8: 0 | C8: 0 | D8: =N(B8)+N(C8) -> 0
A9: 5 | B9: 0 | C9: 0 | D9: =N(B9)+N(C9) -> 0
A10: 6 | B10: 0 | C10: 0 | D10: =N(B10)+N(C10) -> 0
A11: 7 | B11: 0 | C11: 0 | D11: =N(B11)+N(C11) -> 0
A12: 8 | B12: 0 | C12: 0 | D12: =N(B12)+N(C12) -> 0
A13: 9 | B13: 0 | C13: 0 | D13: =N(B13)+N(C13) -> 0
A14: 10 | B14: 0 | C14: 0 | D14: =N(B14)+N(C14) -> 0
A15: Yhteensä | B15: =SUM(B5:B14) -> 0 | C15: =SUM(C5:C14) -> 0 | D15: =SUM(D5:D14) -> 0
A16: Ruhon keskipaino kg | B16: 20 | C16: 30
A18: Nimike | B18: %/vasa | C18: %/raavas | D18: Kpl/ruho | E18: Erä1 kg | F18: Erä1 kpl | G18: Erä2 kg | H18: Erä2 kpl | I18: Erä3 kg | J18: Erä3 kpl | K18: Erä4 kg | L18: Erä4 kpl | M18: Erä5 kg | N18: Erä5 kpl | O18: Erä6 kg | P18: Erä6 kpl | Q18: Erä7 kg | R18: Erä7 kpl | S18: Erä8 kg | T18: Erä8 kpl | U18: Erä9 kg | V18: Erä9 kpl | W18: Erä10 kg | X18: Erä10 kpl | Y18: Kokonais kg | Z18: Kokonais kpl | AA18: kg/teuras | AB18: kpl/teuras
A19: Rustoluut (lantio, kylkiluu, rintalasta, lapaluu, ranka ja kaula) | B19: 0.1238 | C19: 0.099 | E19: =N($B19)*(N($B$5*$B$16)) + N($C19)*(N($C$5*$C$16)) -> 0 | F19: =N($D19)*(N($B$5)+N($C$5)) -> 0 | G19: =N($B19)*(N($B$6*$B$16)) + N($C19)*(N($C$6*$C$16)) -> 0 | H19: =N($D19)*(N($B$6)+N($C$6)) -> 0 | I19: =N($B19)*(N($B$7*$B$16)) + N($C19)*(N($C$7*$C$16)) -> 0 | J19: =N($D19)*(N($B$7)+N($C$7)) -> 0 | K19: =N($B19)*(N($B$8*$B$16)) + N($C19)*(N($C$8*$C$16)) -> 0 | L19: =N($D19)*(N($B$8)+N($C$8)) -> 0 | M19: =N($B19)*(N($B$9*$B$16)) + N($C19)*(N($C$9*$C$16)) -> 0 | N19: =N($D19)*(N($B$9)+N($C$9)) -> 0 | O19: =N($B19)*(N($B$10*$B$16)) + N($C19)*(N($C$10*$C$16)) -> 0 | P19: =N($D19)*(N($B$10)+N($C$10)) -> 0 | Q19: =N($B19)*(N($B$11*$B$16)) + N($C19)*(N($C$11*$C$16)) -> 0 | R19: =N($D19)*(N($B$11)+N($C$11)) -> 0 | S19: =N($B19)*(N($B$12*$B$16)) + N($C19)*(N($C$12*$C$16)) -> 0 | T19: =N($D19)*(N($B$12)+N($C$12)) -> 0 | U19: =N($B19)*(N($B$13*$B$16)) + N($C19)*(N($C$13*$C$16)) -> 0 | V19: =N($D19)*(N($B$13)+N($C$13)) -> 0 | W19: =N($B19)*(N($B$14*$B$16)) + N($C19)*(N($C$14*$C$16)) -> 0 | X19: =N($D19)*(N($B$14)+N($C$14)) -> 0 | Y19: =SUM(E19,G19,I19,K19,M19,O19,Q19,S19,U19,W19) -> 0 | Z19: =SUM(F19,H19,J19,L19,N19,P19,R19,T19,V19,X19) -> 0 | AA19: =IF($D$15=0,0,N(Y19)/$D$15) -> 0 | AB19: =IF($D$15=0,0,N(Z19)/$D$15) -> 0
A20: Putkiluut | B20: 0.1047 | C20: 0.0837 | E20: =N($B20)*(N($B$5*$B$16)) + N($C20)*(N($C$5*$C$16)) -> 0 | F20: =N($D20)*(N($B$5)+N($C$5)) -> 0 | G20: =N($B20)*(N($B$6*$B$16)) + N($C20)*(N($C$6*$C$16)) -> 0 | H20: =N($D20)*(N($B$6)+N($C$6)) -> 0 | I20: =N($B20)*(N($B$7*$B$16)) + N($C20)*(N($C$7*$C$16)) -> 0 | J20: =N($D20)*(N($B$7)+N($C$7)) -> 0 | K20: =N($B20)*(N($B$8*$B$16)) + N($C20)*(N($C$8*$C$16)) -> 0 | L20: =N($D20)*(N($B$8)+N($C$8)) -> 0 | M20: =N($B20)*(N($B$9*$B$16)) + N($C20)*(N($C$9*$C$16)) -> 0 | N20: =N($D20)*(N($B$9)+N($C$9)) -> 0 | O20: =N($B20)*(N($B$10*$B$16)) + N($C20)*(N($C$10*$C$16)) -> 0 | P20: =N($D20)*(N($B$10)+N($C$10)) -> 0 | Q20: =N($B20)*(N($B$11*$B$16)) + N($C20)*(N($C$11*$C$16)) -> 0 | R20: =N($D20)*(N($B$11)+N($C$11)) -> 0 | S20: =N($B20)*(N($B$12*$B$16)) + N($C20)*(N($C$12*$C$16)) -> 0 | T20: =N($D20)*(N($B$12)+N($C$12)) -> 0 | U20: =N($B20)*(N($B$13*$B$16)) + N($C20)*(N($C$13*$C$16)) -> 0 | V20: =N($D20)*(N($B$13)+N($C$13)) -> 0 | W20: =N($B20)*(N($B$14*$B$16)) + N($C20)*(N($C$14*$C$16)) -> 0 | X20: =N($D20)*(N($B$14)+N($C$14)) -> 0 | Y20: =SUM(E20,G20,I20,K20,M20,O20,Q20,S20,U20,W20) -> 0 | Z20: =SUM(F20,H20,J20,L20,N20,P20,R20,T20,V20,X20) -> 0 | AA20: =IF($D$15=0,0,N(Y20)/$D$15) -> 0 | AB20: =IF($D$15=0,0,N(Z20)/$D$15) -> 0
A21: Potkanpäät | B21: 0.0142 | C21: 0.0113 | E21: =N($B21)*(N($B$5*$B$16)) + N($C21)*(N($C$5*$C$16)) -> 0 | F21: =N($D21)*(N($B$5)+N($C$5)) -> 0 | G21: =N($B21)*(N($B$6*$B$16)) + N($C21)*(N($C$6*$C$16)) -> 0 | H21: =N($D21)*(N($B$6)+N($C$6)) -> 0 | I21: =N($B21)*(N($B$7*$B$16)) + N($C21)*(N($C$7*$C$16)) -> 0 | J21: =N($D21)*(N($B$7)+N($C$7)) -> 0 | K21: =N($B21)*(N($B$8*$B$16)) + N($C21)*(N($C$8*$C$16)) -> 0 | L21: =N($D21)*(N($B$8)+N($C$8)) -> 0 | M21: =N($B21)*(N($B$9*$B$16)) + N($C21)*(N($C$9*$C$16)) -> 0 | N21: =N($D21)*(N($B$9)+N($C$9)) -> 0 | O21: =N($B21)*(N($B$10*$B$16)) + N($C21)*(N($C$10*$C$16)) -> 0 | P21: =N($D21)*(N($B$10)+N($C$10)) -> 0 | Q21: =N($B21)*(N($B$11*$B$16)) + N($C21)*(N($C$11*$C$16)) -> 0 | R21: =N($D21)*(N($B$11)+N($C$11)) -> 0 | S21: =N($B21)*(N($B$12*$B$16)) + N($C21)*(N($C$12*$C$16)) -> 0 | T21: =N($D21)*(N($B$12)+N($C$12)) -> 0 | U21: =N($B21)*(N($B$13*$B$16)) + N($C21)*(N($C$13*$C$16)) -> 0 | V21: =N($D21)*(N($B$13)+N($C$13)) -> 0 | W21: =N($B21)*(N($B$14*$B$16)) + N($C21)*(N($C$14*$C$16)) -> 0 | X21: =N($D21)*(N($B$14)+N($C$14)) -> 0 | Y21: =SUM(E21,G21,I21,K21,M21,O21,Q21,S21,U21,W21) -> 0 | Z21: =SUM(F21,H21,J21,L21,N21,P21,R21,T21,V21,X21) -> 0 | AA21: =IF($D$15=0,0,N(Y21)/$D$15) -> 0 | AB21: =IF($D$15=0,0,N(Z21)/$D$15) -> 0
A22: Niskajänne | B22: 0.0021 | C22: 0.0021 | E22: =N($B22)*(N($B$5*$B$16)) + N($C22)*(N($C$5*$C$16)) -> 0 | F22: =N($D22)*(N($B$5)+N($C$5)) -> 0 | G22: =N($B22)*(N($B$6*$B$16)) + N($C22)*(N($C$6*$C$16)) -> 0 | H22: =N($D22)*(N($B$6)+N($C$6)) -> 0 | I22: =N($B22)*(N($B$7*$B$16)) + N($C22)*(N($C$7*$C$16)) -> 0 | J22: =N($D22)*(N($B$7)+N($C$7)) -> 0 | K22: =N($B22)*(N($B$8*$B$16)) + N($C22)*(N($C$8*$C$16)) -> 0 | L22: =N($D22)*(N($B$8)+N($C$8)) -> 0 | M22: =N($B22)*(N($B$9*$B$16)) + N($C22)*(N($C$9*$C$16)) -> 0 | N22: =N($D22)*(N($B$9)+N($C$9)) -> 0 | O22: =N($B22)*(N($B$10*$B$16)) + N($C22)*(N($C$10*$C$16)) -> 0 | P22: =N($D22)*(N($B$10)+N($C$10)) -> 0 | Q22: =N($B22)*(N($B$11*$B$16)) + N($C22)*(N($C$11*$C$16)) -> 0 | R22: =N($D22)*(N($B$11)+N($C$11)) -> 0 | S22: =N($B22)*(N($B$12*$B$16)) + N($C22)*(N($C$12*$C$16)) -> 0 | T22: =N($D22)*(N($B$12)+N($C$12)) -> 0 | U22: =N($B22)*(N($B$13*$B$16)) + N($C22)*(N($C$13*$C$16)) -> 0 | V22: =N($D22)*(N($B$13)+N($C$13)) -> 0 | W22: =N($B22)*(N($B$14*$B$16)) + N($C22)*(N($C$14*$C$16)) -> 0 | X22: =N($D22)*(N($B$14)+N($C$14)) -> 0 | Y22: =SUM(E22,G22,I22,K22,M22,O22,Q22,S22,U22,W22) -> 0 | Z22: =SUM(F22,H22,J22,L22,N22,P22,R22,T22,V22,X22) -> 0 | AA22: =IF($D$15=0,0,N(Y22)/$D$15) -> 0 | AB22: =IF($D$15=0,0,N(Z22)/$D$15) -> 0
A23: Jännetupit | B23: 0.0095 | C23: 0.0095 | E23: =N($B23)*(N($B$5*$B$16)) + N($C23)*(N($C$5*$C$16)) -> 0 | F23: =N($D23)*(N($B$5)+N($C$5)) -> 0 | G23: =N($B23)*(N($B$6*$B$16)) + N($C23)*(N($C$6*$C$16)) -> 0 | H23: =N($D23)*(N($B$6)+N($C$6)) -> 0 | I23: =N($B23)*(N($B$7*$B$16)) + N($C23)*(N($C$7*$C$16)) -> 0 | J23: =N($D23)*(N($B$7)+N($C$7)) -> 0 | K23: =N($B23)*(N($B$8*$B$16)) + N($C23)*(N($C$8*$C$16)) -> 0 | L23: =N($D23)*(N($B$8)+N($C$8)) -> 0 | M23: =N($B23)*(N($B$9*$B$16)) + N($C23)*(N($C$9*$C$16)) -> 0 | N23: =N($D23)*(N($B$9)+N($C$9)) -> 0 | O23: =N($B23)*(N($B$10*$B$16)) + N($C23)*(N($C$10*$C$16)) -> 0 | P23: =N($D23)*(N($B$10)+N($C$10)) -> 0 | Q23: =N($B23)*(N($B$11*$B$16)) + N($C23)*(N($C$11*$C$16)) -> 0 | R23: =N($D23)*(N($B$11)+N($C$11)) -> 0 | S23: =N($B23)*(N($B$12*$B$16)) + N($C23)*(N($C$12*$C$16)) -> 0 | T23: =N($D23)*(N($B$12)+N($C$12)) -> 0 | U23: =N($B23)*(N($B$13*$B$16)) + N($C23)*(N($C$13*$C$16)) -> 0 | V23: =N($D23)*(N($B$13)+N($C$13)) -> 0 | W23: =N($B23)*(N($B$14*$B$16)) + N($C23)*(N($C$14*$C$16)) -> 0 | X23: =N($D23)*(N($B$14)+N($C$14)) -> 0 | Y23: =SUM(E23,G23,I23,K23,M23,O23,Q23,S23,U23,W23) -> 0 | Z23: =SUM(F23,H23,J23,L23,N23,P23,R23,T23,V23,X23) -> 0 | AA23: =IF($D$15=0,0,N(Y23)/$D$15) -> 0 | AB23: =IF($D$15=0,0,N(Z23)/$D$15) -> 0
A24: Rasvat | B24: 0.01 | C24: 0.015 | E24: =N($B24)*(N($B$5*$B$16)) + N($C24)*(N($C$5*$C$16)) -> 0 | F24: =N($D24)*(N($B$5)+N($C$5)) -> 0 | G24: =N($B24)*(N($B$6*$B$16)) + N($C24)*(N($C$6*$C$16)) -> 0 | H24: =N($D24)*(N($B$6)+N($C$6)) -> 0 | I24: =N($B24)*(N($B$7*$B$16)) + N($C24)*(N($C$7*$C$16)) -> 0 | J24: =N($D24)*(N($B$7)+N($C$7)) -> 0 | K24: =N($B24)*(N($B$8*$B$16)) + N($C24)*(N($C$8*$C$16)) -> 0 | L24: =N($D24)*(N($B$8)+N($C$8)) -> 0 | M24: =N($B24)*(N($B$9*$B$16)) + N($C24)*(N($C$9*$C$16)) -> 0 | N24: =N($D24)*(N($B$9)+N($C$9)) -> 0 | O24: =N($B24)*(N($B$10*$B$16)) + N($C24)*(N($C$10*$C$16)) -> 0 | P24: =N($D24)*(N($B$10)+N($C$10)) -> 0 | Q24: =N($B24)*(N($B$11*$B$16)) + N($C24)*(N($C$11*$C$16)) -> 0 | R24: =N($D24)*(N($B$11)+N($C$11)) -> 0 | S24: =N($B24)*(N($B$12*$B$16)) + N($C24)*(N($C$12*$C$16)) -> 0 | T24: =N($D24)*(N($B$12)+N($C$12)) -> 0 | U24: =N($B24)*(N($B$13*$B$16)) + N($C24)*(N($C$13*$C$16)) -> 0 | V24: =N($D24)*(N($B$13)+N($C$13)) -> 0 | W24: =N($B24)*(N($B$14*$B$16)) + N($C24)*(N($C$14*$C$16)) -> 0 | X24: =N($D24)*(N($B$14)+N($C$14)) -> 0 | Y24: =SUM(E24,G24,I24,K24,M24,O24,Q24,S24,U24,W24) -> 0 | Z24: =SUM(F24,H24,J24,L24,N24,P24,R24,T24,V24,X24) -> 0 | AA24: =IF($D$15=0,0,N(Y24)/$D$15) -> 0 | AB24: =IF($D$15=0,0,N(Z24)/$D$15) -> 0
A25: Kalvot | B25: 0.0086 | C25: 0.0136 | E25: =N($B25)*(N($B$5*$B$16)) + N($C25)*(N($C$5*$C$16)) -> 0 | F25: =N($D25)*(N($B$5)+N($C$5)) -> 0 | G25: =N($B25)*(N($B$6*$B$16)) + N($C25)*(N($C$6*$C$16)) -> 0 | H25: =N($D25)*(N($B$6)+N($C$6)) -> 0 | I25: =N($B25)*(N($B$7*$B$16)) + N($C25)*(N($C$7*$C$16)) -> 0 | J25: =N($D25)*(N($B$7)+N($C$7)) -> 0 | K25: =N($B25)*(N($B$8*$B$16)) + N($C25)*(N($C$8*$C$16)) -> 0 | L25: =N($D25)*(N($B$8)+N($C$8)) -> 0 | M25: =N($B25)*(N($B$9*$B$16)) + N($C25)*(N($C$9*$C$16)) -> 0 | N25: =N($D25)*(N($B$9)+N($C$9)) -> 0 | O25: =N($B25)*(N($B$10*$B$16)) + N($C25)*(N($C$10*$C$16)) -> 0 | P25: =N($D25)*(N($B$10)+N($C$10)) -> 0 | Q25: =N($B25)*(N($B$11*$B$16)) + N($C25)*(N($C$11*$C$16)) -> 0 | R25: =N($D25)*(N($B$11)+N($C$11)) -> 0 | S25: =N($B25)*(N($B$12*$B$16)) + N($C25)*(N($C$12*$C$16)) -> 0 | T25: =N($D25)*(N($B$12)+N($C$12)) -> 0 | U25: =N($B25)*(N($B$13*$B$16)) + N($C25)*(N($C$13*$C$16)) -> 0 | V25: =N($D25)*(N($B$13)+N($C$13)) -> 0 | W25: =N($B25)*(N($B$14*$B$16)) + N($C25)*(N($C$14*$C$16)) -> 0 | X25: =N($D25)*(N($B$14)+N($C$14)) -> 0 | Y25: =SUM(E25,G25,I25,K25,M25,O25,Q25,S25,U25,W25) -> 0 | Z25: =SUM(F25,H25,J25,L25,N25,P25,R25,T25,V25,X25) -> 0 | AA25: =IF($D$15=0,0,N(Y25)/$D$15) -> 0 | AB25: =IF($D$15=0,0,N(Z25)/$D$15) -> 0
A26: Kaulankärki | B26: 0.0017 | C26: 0.0014 | E26: =N($B26)*(N($B$5*$B$16)) + N($C26)*(N($C$5*$C$16)) -> 0 | F26: =N($D26)*(N($B$5)+N($C$5)) -> 0 | G26: =N($B26)*(N($B$6*$B$16)) + N($C26)*(N($C$6*$C$16)) -> 0 | H26: =N($D26)*(N($B$6)+N($C$6)) -> 0 | I26: =N($B26)*(N($B$7*$B$16)) + N($C26)*(N($C$7*$C$16)) -> 0 | J26: =N($D26)*(N($B$7)+N($C$7)) -> 0 | K26: =N($B26)*(N($B$8*$B$16)) + N($C26)*(N($C$8*$C$16)) -> 0 | L26: =N($D26)*(N($B$8)+N($C$8)) -> 0 | M26: =N($B26)*(N($B$9*$B$16)) + N($C26)*(N($C$9*$C$16)) -> 0 | N26: =N($D26)*(N($B$9)+N($C$9)) -> 0 | O26: =N($B26)*(N($B$10*$B$16)) + N($C26)*(N($C$10*$C$16)) -> 0 | P26: =N($D26)*(N($B$10)+N($C$10)) -> 0 | Q26: =N($B26)*(N($B$11*$B$16)) + N($C26)*(N($C$11*$C$16)) -> 0 | R26: =N($D26)*(N($B$11)+N($C$11)) -> 0 | S26: =N($B26)*(N($B$12*$B$16)) + N($C26)*(N($C$12*$C$16)) -> 0 | T26: =N($D26)*(N($B$12)+N($C$12)) -> 0 | U26: =N($B26)*(N($B$13*$B$16)) + N($C26)*(N($C$13*$C$16)) -> 0 | V26: =N($D26)*(N($B$13)+N($C$13)) -> 0 | W26: =N($B26)*(N($B$14*$B$16)) + N($C26)*(N($C$14*$C$16)) -> 0 | X26: =N($D26)*(N($B$14)+N($C$14)) -> 0 | Y26: =SUM(E26,G26,I26,K26,M26,O26,Q26,S26,U26,W26) -> 0 | Z26: =SUM(F26,H26,J26,L26,N26,P26,R26,T26,V26,X26) -> 0 | AA26: =IF($D$15=0,0,N(Y26)/$D$15) -> 0 | AB26: =IF($D$15=0,0,N(Z26)/$D$15) -> 0
A27: Osa 1. | E27: =N($B27)*(N($B$5*$B$16)) + N($C27)*(N($C$5*$C$16)) -> 0 | F27: =N($D27)*(N($B$5)+N($C$5)) -> 0 | G27: =N($B27)*(N($B$6*$B$16)) + N($C27)*(N($C$6*$C$16)) -> 0 | H27: =N($D27)*(N($B$6)+N($C$6)) -> 0 | I27: =N($B27)*(N($B$7*$B$16)) + N($C27)*(N($C$7*$C$16)) -> 0 | J27: =N($D27)*(N($B$7)+N($C$7)) -> 0 | K27: =N($B27)*(N($B$8*$B$16)) + N($C27)*(N($C$8*$C$16)) -> 0 | L27: =N($D27)*(N($B$8)+N($C$8)) -> 0 | M27: =N($B27)*(N($B$9*$B$16)) + N($C27)*(N($C$9*$C$16)) -> 0 | N27: =N($D27)*(N($B$9)+N($C$9)) -> 0 | O27: =N($B27)*(N($B$10*$B$16)) + N($C27)*(N($C$10*$C$16)) -> 0 | P27: =N($D27)*(N($B$10)+N($C$10)) -> 0 | Q27: =N($B27)*(N($B$11*$B$16)) + N($C27)*(N($C$11*$C$16)) -> 0 | R27: =N($D27)*(N($B$11)+N($C$11)) -> 0 | S27: =N($B27)*(N($B$12*$B$16)) + N($C27)*(N($C$12*$C$16)) -> 0 | T27: =N($D27)*(N($B$12)+N($C$12)) -> 0 | U27: =N($B27)*(N($B$13*$B$16)) + N($C27)*(N($C$13*$C$16)) -> 0 | V27: =N($D27)*(N($B$13)+N($C$13)) -> 0 | W27: =N($B27)*(N($B$14*$B$16)) + N($C27)*(N($C$14*$C$16)) -> 0 | X27: =N($D27)*(N($B$14)+N($C$14)) -> 0 | Y27: =SUM(E27,G27,I27,K27,M27,O27,Q27,S27,U27,W27) -> 0 | Z27: =SUM(F27,H27,J27,L27,N27,P27,R27,T27,V27,X27) -> 0 | AA27: =IF($D$15=0,0,N(Y27)/$D$15) -> 0 | AB27: =IF($D$15=0,0,N(Z27)/$D$15) -> 0
A28: Osa 2. | E28: =N($B28)*(N($B$5*$B$16)) + N($C28)*(N($C$5*$C$16)) -> 0 | F28: =N($D28)*(N($B$5)+N($C$5)) -> 0 | G28: =N($B28)*(N($B$6*$B$16)) + N($C28)*(N($C$6*$C$16)) -> 0 | H28: =N($D28)*(N($B$6)+N($C$6)) -> 0 | I28: =N($B28)*(N($B$7*$B$16)) + N($C28)*(N($C$7*$C$16)) -> 0 | J28: =N($D28)*(N($B$7)+N($C$7)) -> 0 | K28: =N($B28)*(N($B$8*$B$16)) + N($C28)*(N($C$8*$C$16)) -> 0 | L28: =N($D28)*(N($B$8)+N($C$8)) -> 0 | M28: =N($B28)*(N($B$9*$B$16)) + N($C28)*(N($C$9*$C$16)) -> 0 | N28: =N($D28)*(N($B$9)+N($C$9)) -> 0 | O28: =N($B28)*(N($B$10*$B$16)) + N($C28)*(N($C$10*$C$16)) -> 0 | P28: =N($D28)*(N($B$10)+N($C$10)) -> 0 | Q28: =N($B28)*(N($B$11*$B$16)) + N($C28)*(N($C$11*$C$16)) -> 0 | R28: =N($D28)*(N($B$11)+N($C$11)) -> 0 | S28: =N($B28)*(N($B$12*$B$16)) + N($C28)*(N($C$12*$C$16)) -> 0 | T28: =N($D28)*(N($B$12)+N($C$12)) -> 0 | U28: =N($B28)*(N($B$13*$B$16)) + N($C28)*(N($C$13*$C$16)) -> 0 | V28: =N($D28)*(N($B$13)+N($C$13)) -> 0 | W28: =N($B28)*(N($B$14*$B$16)) + N($C28)*(N($C$14*$C$16)) -> 0 | X28: =N($D28)*(N($B$14)+N($C$14)) -> 0 | Y28: =SUM(E28,G28,I28,K28,M28,O28,Q28,S28,U28,W28) -> 0 | Z28: =SUM(F28,H28,J28,L28,N28,P28,R28,T28,V28,X28) -> 0 | AA28: =IF($D$15=0,0,N(Y28)/$D$15) -> 0 | AB28: =IF($D$15=0,0,N(Z28)/$D$15) -> 0
A29: Osa 3. | E29: =N($B29)*(N($B$5*$B$16)) + N($C29)*(N($C$5*$C$16)) -> 0 | F29: =N($D29)*(N($B$5)+N($C$5)) -> 0 | G29: =N($B29)*(N($B$6*$B$16)) + N($C29)*(N($C$6*$C$16)) -> 0 | H29: =N($D29)*(N($B$6)+N($C$6)) -> 0 | I29: =N($B29)*(N($B$7*$B$16)) + N($C29)*(N($C$7*$C$16)) -> 0 | J29: =N($D29)*(N($B$7)+N($C$7)) -> 0 | K29: =N($B29)*(N($B$8*$B$16)) + N($C29)*(N($C$8*$C$16)) -> 0 | L29: =N($D29)*(N($B$8)+N($C$8)) -> 0 | M29: =N($B29)*(N($B$9*$B$16)) + N($C29)*(N($C$9*$C$16)) -> 0 | N29: =N($D29)*(N($B$9)+N($C$9)) -> 0 | O29: =N($B29)*(N($B$10*$B$16)) + N($C29)*(N($C$10*$C$16)) -> 0 | P29: =N($D29)*(N($B$10)+N($C$10)) -> 0 | Q29: =N($B29)*(N($B$11*$B$16)) + N($C29)*(N($C$11*$C$16)) -> 0 | R29: =N($D29)*(N($B$11)+N($C$11)) -> 0 | S29: =N($B29)*(N($B$12*$B$16)) + N($C29)*(N($C$12*$C$16)) -> 0 | T29: =N($D29)*(N($B$12)+N($C$12)) -> 0 | U29: =N($B29)*(N($B$13*$B$16)) + N($C29)*(N($C$13*$C$16)) -> 0 | V29: =N($D29)*(N($B$13)+N($C$13)) -> 0 | W29: =N($B29)*(N($B$14*$B$16)) + N($C29)*(N($C$14*$C$16)) -> 0 | X29: =N($D29)*(N($B$14)+N($C$14)) -> 0 | Y29: =SUM(E29,G29,I29,K29,M29,O29,Q29,S29,U29,W29) -> 0 | Z29: =SUM(F29,H29,J29,L29,N29,P29,R29,T29,V29,X29) -> 0 | AA29: =IF($D$15=0,0,N(Y29)/$D$15) -> 0 | AB29: =IF($D$15=0,0,N(Z29)/$D$15) -> 0
A30: Lajitelma 1. | E30: =N($B30)*(N($B$5*$B$16)) + N($C30)*(N($C$5*$C$16)) -> 0 | F30: =N($D30)*(N($B$5)+N($C$5)) -> 0 | G30: =N($B30)*(N($B$6*$B$16)) + N($C30)*(N($C$6*$C$16)) -> 0 | H30: =N($D30)*(N($B$6)+N($C$6)) -> 0 | I30: =N($B30)*(N($B$7*$B$16)) + N($C30)*(N($C$7*$C$16)) -> 0 | J30: =N($D30)*(N($B$7)+N($C$7)) -> 0 | K30: =N($B30)*(N($B$8*$B$16)) + N($C30)*(N($C$8*$C$16)) -> 0 | L30: =N($D30)*(N($B$8)+N($C$8)) -> 0 | M30: =N($B30)*(N($B$9*$B$16)) + N($C30)*(N($C$9*$C$16)) -> 0 | N30: =N($D30)*(N($B$9)+N($C$9)) -> 0 | O30: =N($B30)*(N($B$10*$B$16)) + N($C30)*(N($C$10*$C$16)) -> 0 | P30: =N($D30)*(N($B$10)+N($C$10)) -> 0 | Q30: =N($B30)*(N($B$11*$B$16)) + N($C30)*(N($C$11*$C$16)) -> 0 | R30: =N($D30)*(N($B$11)+N($C$11)) -> 0 | S30: =N($B30)*(N($B$12*$B$16)) + N($C30)*(N($C$12*$C$16)) -> 0 | T30: =N($D30)*(N($B$12)+N($C$12)) -> 0 | U30: =N($B30)*(N($B$13*$B$16)) + N($C30)*(N($C$13*$C$16)) -> 0 | V30: =N($D30)*(N($B$13)+N($C$13)) -> 0 | W30: =N($B30)*(N($B$14*$B$16)) + N($C30)*(N($C$14*$C$16)) -> 0 | X30: =N($D30)*(N($B$14)+N($C$14)) -> 0 | Y30: =SUM(E30,G30,I30,K30,M30,O30,Q30,S30,U30,W30) -> 0 | Z30: =SUM(F30,H30,J30,L30,N30,P30,R30,T30,V30,X30) -> 0 | AA30: =IF($D$15=0,0,N(Y30)/$D$15) -> 0 | AB30: =IF($D$15=0,0,N(Z30)/$D$15) -> 0
A31: Lajitelma 2. | E31: =N($B31)*(N($B$5*$B$16)) + N($C31)*(N($C$5*$C$16)) -> 0 | F31: =N($D31)*(N($B$5)+N($C$5)) -> 0 | G31: =N($B31)*(N($B$6*$B$16)) + N($C31)*(N($C$6*$C$16)) -> 0 | H31: =N($D31)*(N($B$6)+N($C$6)) -> 0 | I31: =N($B31)*(N($B$7*$B$16)) + N($C31)*(N($C$7*$C$16)) -> 0 | J31: =N($D31)*(N($B$7)+N($C$7)) -> 0 | K31: =N($B31)*(N($B$8*$B$16)) + N($C31)*(N($C$8*$C$16)) -> 0 | L31: =N($D31)*(N($B$8)+N($C$8)) -> 0 | M31: =N($B31)*(N($B$9*$B$16)) + N($C31)*(N($C$9*$C$16)) -> 0 | N31: =N($D31)*(N($B$9)+N($C$9)) -> 0 | O31: =N($B31)*(N($B$10*$B$16)) + N($C31)*(N($C$10*$C$16)) -> 0 | P31: =N($D31)*(N($B$10)+N($C$10)) -> 0 | Q31: =N($B31)*(N($B$11*$B$16)) + N($C31)*(N($C$11*$C$16)) -> 0 | R31: =N($D31)*(N($B$11)+N($C$11)) -> 0 | S31: =N($B31)*(N($B$12*$B$16)) + N($C31)*(N($C$12*$C$16)) -> 0 | T31: =N($D31)*(N($B$12)+N($C$12)) -> 0 | U31: =N($B31)*(N($B$13*$B$16)) + N($C31)*(N($C$13*$C$16)) -> 0 | V31: =N($D31)*(N($B$13)+N($C$13)) -> 0 | W31: =N($B31)*(N($B$14*$B$16)) + N($C31)*(N($C$14*$C$16)) -> 0 | X31: =N($D31)*(N($B$14)+N($C$14)) -> 0 | Y31: =SUM(E31,G31,I31,K31,M31,O31,Q31,S31,U31,W31) -> 0 | Z31: =SUM(F31,H31,J31,L31,N31,P31,R31,T31,V31,X31) -> 0 | AA31: =IF($D$15=0,0,N(Y31)/$D$15) -> 0 | AB31: =IF($D$15=0,0,N(Z31)/$D$15) -> 0
A32: Lajitelma 3. | E32: =N($B32)*(N($B$5*$B$16)) + N($C32)*(N($C$5*$C$16)) -> 0 | F32: =N($D32)*(N($B$5)+N($C$5)) -> 0 | G32: =N($B32)*(N($B$6*$B$16)) + N($C32)*(N($C$6*$C$16)) -> 0 | H32: =N($D32)*(N($B$6)+N($C$6)) -> 0 | I32: =N($B32)*(N($B$7*$B$16)) + N($C32)*(N($C$7*$C$16)) -> 0 | J32: =N($D32)*(N($B$7)+N($C$7)) -> 0 | K32: =N($B32)*(N($B$8*$B$16)) + N($C32)*(N($C$8*$C$16)) -> 0 | L32: =N($D32)*(N($B$8)+N($C$8)) -> 0 | M32: =N($B32)*(N($B$9*$B$16)) + N($C32)*(N($C$9*$C$16)) -> 0 | N32: =N($D32)*(N($B$9)+N($C$9)) -> 0 | O32: =N($B32)*(N($B$10*$B$16)) + N($C32)*(N($C$10*$C$16)) -> 0 | P32: =N($D32)*(N($B$10)+N($C$10)) -> 0 | Q32: =N($B32)*(N($B$11*$B$16)) + N($C32)*(N($C$11*$C$16)) -> 0 | R32: =N($D32)*(N($B$11)+N($C$11)) -> 0 | S32: =N($B32)*(N($B$12*$B$16)) + N($C32)*(N($C$12*$C$16)) -> 0 | T32: =N($D32)*(N($B$12)+N($C$12)) -> 0 | U32: =N($B32)*(N($B$13*$B$16)) + N($C32)*(N($C$13*$C$16)) -> 0 | V32: =N($D32)*(N($B$13)+N($C$13)) -> 0 | W32: =N($B32)*(N($B$14*$B$16)) + N($C32)*(N($C$14*$C$16)) -> 0 | X32: =N($D32)*(N($B$14)+N($C$14)) -> 0 | Y32: =SUM(E32,G32,I32,K32,M32,O32,Q32,S32,U32,W32) -> 0 | Z32: =SUM(F32,H32,J32,L32,N32,P32,R32,T32,V32,X32) -> 0 | AA32: =IF($D$15=0,0,N(Y32)/$D$15) -> 0 | AB32: =IF($D$15=0,0,N(Z32)/$D$15) -> 0
E33: =N($B33)*(N($B$5*$B$16)) + N($C33)*(N($C$5*$C$16)) -> 0 | F33: =N($D33)*(N($B$5)+N($C$5)) -> 0 | G33: =N($B33)*(N($B$6*$B$16)) + N($C33)*(N($C$6*$C$16)) -> 0 | H33: =N($D33)*(N($B$6)+N($C$6)) -> 0 | I33: =N($B33)*(N($B$7*$B$16)) + N($C33)*(N($C$7*$C$16)) -> 0 | J33: =N($D33)*(N($B$7)+N($C$7)) -> 0 | K33: =N($B33)*(N($B$8*$B$16)) + N($C33)*(N($C$8*$C$16)) -> 0 | L33: =N($D33)*(N($B$8)+N($C$8)) -> 0 | M33: =N($B33)*(N($B$9*$B$16)) + N($C33)*(N($C$9*$C$16)) -> 0 | N33: =N($D33)*(N($B$9)+N($C$9)) -> 0 | O33: =N($B33)*(N($B$10*$B$16)) + N($C33)*(N($C$10*$C$16)) -> 0 | P33: =N($D33)*(N($B$10)+N($C$10)) -> 0 | Q33: =N($B33)*(N($B$11*$B$16)) + N($C33)*(N($C$11*$C$16)) -> 0 | R33: =N($D33)*(N($B$11)+N($C$11)) -> 0 | S33: =N($B33)*(N($B$12*$B$16)) + N($C33)*(N($C$12*$C$16)) -> 0 | T33: =N($D33)*(N($B$12)+N($C$12)) -> 0 | U33: =N($B33)*(N($B$13*$B$16)) + N($C33)*(N($C$13*$C$16)) -> 0 | V33: =N($D33)*(N($B$13)+N($C$13)) -> 0 | W33: =N($B33)*(N($B$14*$B$16)) + N($C33)*(N($C$14*$C$16)) -> 0 | X33: =N($D33)*(N($B$14)+N($C$14)) -> 0 | Y33: =SUM(E33,G33,I33,K33,M33,O33,Q33,S33,U33,W33) -> 0 | Z33: =SUM(F33,H33,J33,L33,N33,P33,R33,T33,V33,X33) -> 0 | AA33: =IF($D$15=0,0,N(Y33)/$D$15) -> 0 | AB33: =IF($D$15=0,0,N(Z33)/$D$15) -> 0
E34: =N($B34)*(N($B$5*$B$16)) + N($C34)*(N($C$5*$C$16)) -> 0 | F34: =N($D34)*(N($B$5)+N($C$5)) -> 0 | G34: =N($B34)*(N($B$6*$B$16)) + N($C34)*(N($C$6*$C$16)) -> 0 | H34: =N($D34)*(N($B$6)+N($C$6)) -> 0 | I34: =N($B34)*(N($B$7*$B$16)) + N($C34)*(N($C$7*$C$16)) -> 0 | J34: =N($D34)*(N($B$7)+N($C$7)) -> 0 | K34: =N($B34)*(N($B$8*$B$16)) + N($C34)*(N($C$8*$C$16)) -> 0 | L34: =N($D34)*(N($B$8)+N($C$8)) -> 0 | M34: =N($B34)*(N($B$9*$B$16)) + N($C34)*(N($C$9*$C$16)) -> 0 | N34: =N($D34)*(N($B$9)+N($C$9)) -> 0 | O34: =N($B34)*(N($B$10*$B$16)) + N($C34)*(N($C$10*$C$16)) -> 0 | P34: =N($D34)*(N($B$10)+N($C$10)) -> 0 | Q34: =N($B34)*(N($B$11*$B$16)) + N($C34)*(N($C$11*$C$16)) -> 0 | R34: =N($D34)*(N($B$11)+N($C$11)) -> 0 | S34: =N($B34)*(N($B$12*$B$16)) + N($C34)*(N($C$12*$C$16)) -> 0 | T34: =N($D34)*(N($B$12)+N($C$12)) -> 0 | U34: =N($B34)*(N($B$13*$B$16)) + N($C34)*(N($C$13*$C$16)) -> 0 | V34: =N($D34)*(N($B$13)+N($C$13)) -> 0 | W34: =N($B34)*(N($B$14*$B$16)) + N($C34)*(N($C$14*$C$16)) -> 0 | X34: =N($D34)*(N($B$14)+N($C$14)) -> 0 | Y34: =SUM(E34,G34,I34,K34,M34,O34,Q34,S34,U34,W34) -> 0 | Z34: =SUM(F34,H34,J34,L34,N34,P34,R34,T34,V34,X34) -> 0 | AA34: =IF($D$15=0,0,N(Y34)/$D$15) -> 0 | AB34: =IF($D$15=0,0,N(Z34)/$D$15) -> 0
E35: =N($B35)*(N($B$5*$B$16)) + N($C35)*(N($C$5*$C$16)) -> 0 | F35: =N($D35)*(N($B$5)+N($C$5)) -> 0 | G35: =N($B35)*(N($B$6*$B$16)) + N($C35)*(N($C$6*$C$16)) -> 0 | H35: =N($D35)*(N($B$6)+N($C$6)) -> 0 | I35: =N($B35)*(N($B$7*$B$16)) + N($C35)*(N($C$7*$C$16)) -> 0 | J35: =N($D35)*(N($B$7)+N($C$7)) -> 0 | K35: =N($B35)*(N($B$8*$B$16)) + N($C35)*(N($C$8*$C$16)) -> 0 | L35: =N($D35)*(N($B$8)+N($C$8)) -> 0 | M35: =N($B35)*(N($B$9*$B$16)) + N($C35)*(N($C$9*$C$16)) -> 0 | N35: =N($D35)*(N($B$9)+N($C$9)) -> 0 | O35: =N($B35)*(N($B$10*$B$16)) + N($C35)*(N($C$10*$C$16)) -> 0 | P35: =N($D35)*(N($B$10)+N($C$10)) -> 0 | Q35: =N($B35)*(N($B$11*$B$16)) + N($C35)*(N($C$11*$C$16)) -> 0 | R35: =N($D35)*(N($B$11)+N($C$11)) -> 0 | S35: =N($B35)*(N($B$12*$B$16)) + N($C35)*(N($C$12*$C$16)) -> 0 | T35: =N($D35)*(N($B$12)+N($C$12)) -> 0 | U35: =N($B35)*(N($B$13*$B$16)) + N($C35)*(N($C$13*$C$16)) -> 0 | V35: =N($D35)*(N($B$13)+N($C$13)) -> 0 | W35: =N($B35)*(N($B$14*$B$16)) + N($C35)*(N($C$14*$C$16)) -> 0 | X35: =N($D35)*(N($B$14)+N($C$14)) -> 0 | Y35: =SUM(E35,G35,I35,K35,M35,O35,Q35,S35,U35,W35) -> 0 | Z35: =SUM(F35,H35,J35,L35,N35,P35,R35,T35,V35,X35) -> 0 | AA35: =IF($D$15=0,0,N(Y35)/$D$15) -> 0 | AB35: =IF($D$15=0,0,N(Z35)/$D$15) -> 0
E36: =N($B36)*(N($B$5*$B$16)) + N($C36)*(N($C$5*$C$16)) -> 0 | F36: =N($D36)*(N($B$5)+N($C$5)) -> 0 | G36: =N($B36)*(N($B$6*$B$16)) + N($C36)*(N($C$6*$C$16)) -> 0 | H36: =N($D36)*(N($B$6)+N($C$6)) -> 0 | I36: =N($B36)*(N($B$7*$B$16)) + N($C36)*(N($C$7*$C$16)) -> 0 | J36: =N($D36)*(N($B$7)+N($C$7)) -> 0 | K36: =N($B36)*(N($B$8*$B$16)) + N($C36)*(N($C$8*$C$16)) -> 0 | L36: =N($D36)*(N($B$8)+N($C$8)) -> 0 | M36: =N($B36)*(N($B$9*$B$16)) + N($C36)*(N($C$9*$C$16)) -> 0 | N36: =N($D36)*(N($B$9)+N($C$9)) -> 0 | O36: =N($B36)*(N($B$10*$B$16)) + N($C36)*(N($C$10*$C$16)) -> 0 | P36: =N($D36)*(N($B$10)+N($C$10)) -> 0 | Q36: =N($B36)*(N($B$11*$B$16)) + N($C36)*(N($C$11*$C$16)) -> 0 | R36: =N($D36)*(N($B$11)+N($C$11)) -> 0 | S36: =N($B36)*(N($B$12*$B$16)) + N($C36)*(N($C$12*$C$16)) -> 0 | T36: =N($D36)*(N($B$12)+N($C$12)) -> 0 | U36: =N($B36)*(N($B$13*$B$16)) + N($C36)*(N($C$13*$C$16)) -> 0 | V36: =N($D36)*(N($B$13)+N($C$13)) -> 0 | W36: =N($B36)*(N($B$14*$B$16)) + N($C36)*(N($C$14*$C$16)) -> 0 | X36: =N($D36)*(N($B$14)+N($C$14)) -> 0 | Y36: =SUM(E36,G36,I36,K36,M36,O36,Q36,S36,U36,W36) -> 0 | Z36: =SUM(F36,H36,J36,L36,N36,P36,R36,T36,V36,X36) -> 0 | AA36: =IF($D$15=0,0,N(Y36)/$D$15) -> 0 | AB36: =IF($D$15=0,0,N(Z36)/$D$15) -> 0
E37: =N($B37)*(N($B$5*$B$16)) + N($C37)*(N($C$5*$C$16)) -> 0 | F37: =N($D37)*(N($B$5)+N($C$5)) -> 0 | G37: =N($B37)*(N($B$6*$B$16)) + N($C37)*(N($C$6*$C$16)) -> 0 | H37: =N($D37)*(N($B$6)+N($C$6)) -> 0 | I37: =N($B37)*(N($B$7*$B$16)) + N($C37)*(N($C$7*$C$16)) -> 0 | J37: =N($D37)*(N($B$7)+N($C$7)) -> 0 | K37: =N($B37)*(N($B$8*$B$16)) + N($C37)*(N($C$8*$C$16)) -> 0 | L37: =N($D37)*(N($B$8)+N($C$8)) -> 0 | M37: =N($B37)*(N($B$9*$B$16)) + N($C37)*(N($C$9*$C$16)) -> 0 | N37: =N($D37)*(N($B$9)+N($C$9)) -> 0 | O37: =N($B37)*(N($B$10*$B$16)) + N($C37)*(N($C$10*$C$16)) -> 0 | P37: =N($D37)*(N($B$10)+N($C$10)) -> 0 | Q37: =N($B37)*(N($B$11*$B$16)) + N($C37)*(N($C$11*$C$16)) -> 0 | R37: =N($D37)*(N($B$11)+N($C$11)) -> 0 | S37: =N($B37)*(N($B$12*$B$16)) + N($C37)*(N($C$12*$C$16)) -> 0 | T37: =N($D37)*(N($B$12)+N($C$12)) -> 0 | U37: =N($B37)*(N($B$13*$B$16)) + N($C37)*(N($C$13*$C$16)) -> 0 | V37: =N($D37)*(N($B$13)+N($C$13)) -> 0 | W37: =N($B37)*(N($B$14*$B$16)) + N($C37)*(N($C$14*$C$16)) -> 0 | X37: =N($D37)*(N($B$14)+N($C$14)) -> 0 | Y37: =SUM(E37,G37,I37,K37,M37,O37,Q37,S37,U37,W37) -> 0 | Z37: =SUM(F37,H37,J37,L37,N37,P37,R37,T37,V37,X37) -> 0 | AA37: =IF($D$15=0,0,N(Y37)/$D$15) -> 0 | AB37: =IF($D$15=0,0,N(Z37)/$D$15) -> 0
E38: =N($B38)*(N($B$5*$B$16)) + N($C38)*(N($C$5*$C$16)) -> 0 | F38: =N($D38)*(N($B$5)+N($C$5)) -> 0 | G38: =N($B38)*(N($B$6*$B$16)) + N($C38)*(N($C$6*$C$16)) -> 0 | H38: =N($D38)*(N($B$6)+N($C$6)) -> 0 | I38: =N($B38)*(N($B$7*$B$16)) + N($C38)*(N($C$7*$C$16)) -> 0 | J38: =N($D38)*(N($B$7)+N($C$7)) -> 0 | K38: =N($B38)*(N($B$8*$B$16)) + N($C38)*(N($C$8*$C$16)) -> 0 | L38: =N($D38)*(N($B$8)+N($C$8)) -> 0 | M38: =N($B38)*(N($B$9*$B$16)) + N($C38)*(N($C$9*$C$16)) -> 0 | N38: =N($D38)*(N($B$9)+N($C$9)) -> 0 | O38: =N($B38)*(N($B$10*$B$16)) + N($C38)*(N($C$10*$C$16)) -> 0 | P38: =N($D38)*(N($B$10)+N($C$10)) -> 0 | Q38: =N($B38)*(N($B$11*$B$16)) + N($C38)*(N($C$11*$C$16)) -> 0 | R38: =N($D38)*(N($B$11)+N($C$11)) -> 0 | S38: =N($B38)*(N($B$12*$B$16)) + N($C38)*(N($C$12*$C$16)) -> 0 | T38: =N($D38)*(N($B$12)+N($C$12)) -> 0 | U38: =N($B38)*(N($B$13*$B$16)) + N($C38)*(N($C$13*$C$16)) -> 0 | V38: =N($D38)*(N($B$13)+N($C$13)) -> 0 | W38: =N($B38)*(N($B$14*$B$16)) + N($C38)*(N($C$14*$C$16)) -> 0 | X38: =N($D38)*(N($B$14)+N($C$14)) -> 0 | Y38: =SUM(E38,G38,I38,K38,M38,O38,Q38,S38,U38,W38) -> 0 | Z38: =SUM(F38,H38,J38,L38,N38,P38,R38,T38,V38,X38) -> 0 | AA38: =IF($D$15=0,0,N(Y38)/$D$15) -> 0 | AB38: =IF($D$15=0,0,N(Z38)/$D$15) -> 0
E39: =N($B39)*(N($B$5*$B$16)) + N($C39)*(N($C$5*$C$16)) -> 0 | F39: =N($D39)*(N($B$5)+N($C$5)) -> 0 | G39: =N($B39)*(N($B$6*$B$16)) + N($C39)*(N($C$6*$C$16)) -> 0 | H39: =N($D39)*(N($B$6)+N($C$6)) -> 0 | I39: =N($B39)*(N($B$7*$B$16)) + N($C39)*(N($C$7*$C$16)) -> 0 | J39: =N($D39)*(N($B$7)+N($C$7)) -> 0 | K39: =N($B39)*(N($B$8*$B$16)) + N($C39)*(N($C$8*$C$16)) -> 0 | L39: =N($D39)*(N($B$8)+N($C$8)) -> 0 | M39: =N($B39)*(N($B$9*$B$16)) + N($C39)*(N($C$9*$C$16)) -> 0 | N39: =N($D39)*(N($B$9)+N($C$9)) -> 0 | O39: =N($B39)*(N($B$10*$B$16)) + N($C39)*(N($C$10*$C$16)) -> 0 | P39: =N($D39)*(N($B$10)+N($C$10)) -> 0 | Q39: =N($B39)*(N($B$11*$B$16)) + N($C39)*(N($C$11*$C$16)) -> 0 | R39: =N($D39)*(N($B$11)+N($C$11)) -> 0 | S39: =N($B39)*(N($B$12*$B$16)) + N($C39)*(N($C$12*$C$16)) -> 0 | T39: =N($D39)*(N($B$12)+N($C$12)) -> 0 | U39: =N($B39)*(N($B$13*$B$16)) + N($C39)*(N($C$13*$C$16)) -> 0 | V39: =N($D39)*(N($B$13)+N($C$13)) -> 0 | W39: =N($B39)*(N($B$14*$B$16)) + N($C39)*(N($C$14*$C$16)) -> 0 | X39: =N($D39)*(N($B$14)+N($C$14)) -> 0 | Y39: =SUM(E39,G39,I39,K39,M39,O39,Q39,S39,U39,W39) -> 0 | Z39: =SUM(F39,H39,J39,L39,N39,P39,R39,T39,V39,X39) -> 0 | AA39: =IF($D$15=0,0,N(Y39)/$D$15) -> 0 | AB39: =IF($D$15=0,0,N(Z39)/$D$15) -> 0
E40: =N($B40)*(N($B$5*$B$16)) + N($C40)*(N($C$5*$C$16)) -> 0 | F40: =N($D40)*(N($B$5)+N($C$5)) -> 0 | G40: =N($B40)*(N($B$6*$B$16)) + N($C40)*(N($C$6*$C$16)) -> 0 | H40: =N($D40)*(N($B$6)+N($C$6)) -> 0 | I40: =N($B40)*(N($B$7*$B$16)) + N($C40)*(N($C$7*$C$16)) -> 0 | J40: =N($D40)*(N($B$7)+N($C$7)) -> 0 | K40: =N($B40)*(N($B$8*$B$16)) + N($C40)*(N($C$8*$C$16)) -> 0 | L40: =N($D40)*(N($B$8)+N($C$8)) -> 0 | M40: =N($B40)*(N($B$9*$B$16)) + N($C40)*(N($C$9*$C$16)) -> 0 | N40: =N($D40)*(N($B$9)+N($C$9)) -> 0 | O40: =N($B40)*(N($B$10*$B$16)) + N($C40)*(N($C$10*$C$16)) -> 0 | P40: =N($D40)*(N($B$10)+N($C$10)) -> 0 | Q40: =N($B40)*(N($B$11*$B$16)) + N($C40)*(N($C$11*$C$16)) -> 0 | R40: =N($D40)*(N($B$11)+N($C$11)) -> 0 | S40: =N($B40)*(N($B$12*$B$16)) + N($C40)*(N($C$12*$C$16)) -> 0 | T40: =N($D40)*(N($B$12)+N($C$12)) -> 0 | U40: =N($B40)*(N($B$13*$B$16)) + N($C40)*(N($C$13*$C$16)) -> 0 | V40: =N($D40)*(N($B$13)+N($C$13)) -> 0 | W40: =N($B40)*(N($B$14*$B$16)) + N($C40)*(N($C$14*$C$16)) -> 0 | X40: =N($D40)*(N($B$14)+N($C$14)) -> 0 | Y40: =SUM(E40,G40,I40,K40,M40,O40,Q40,S40,U40,W40) -> 0 | Z40: =SUM(F40,H40,J40,L40,N40,P40,R40,T40,V40,X40) -> 0 | AA40: =IF($D$15=0,0,N(Y40)/$D$15) -> 0 | AB40: =IF($D$15=0,0,N(Z40)/$D$15) -> 0
E41: =N($B41)*(N($B$5*$B$16)) + N($C41)*(N($C$5*$C$16)) -> 0 | F41: =N($D41)*(N($B$5)+N($C$5)) -> 0 | G41: =N($B41)*(N($B$6*$B$16)) + N($C41)*(N($C$6*$C$16)) -> 0 | H41: =N($D41)*(N($B$6)+N($C$6)) -> 0 | I41: =N($B41)*(N($B$7*$B$16)) + N($C41)*(N($C$7*$C$16)) -> 0 | J41: =N($D41)*(N($B$7)+N($C$7)) -> 0 | K41: =N($B41)*(N($B$8*$B$16)) + N($C41)*(N($C$8*$C$16)) -> 0 | L41: =N($D41)*(N($B$8)+N($C$8)) -> 0 | M41: =N($B41)*(N($B$9*$B$16)) + N($C41)*(N($C$9*$C$16)) -> 0 | N41: =N($D41)*(N($B$9)+N($C$9)) -> 0 | O41: =N($B41)*(N($B$10*$B$16)) + N($C41)*(N($C$10*$C$16)) -> 0 | P41: =N($D41)*(N($B$10)+N($C$10)) -> 0 | Q41: =N($B41)*(N($B$11*$B$16)) + N($C41)*(N($C$11*$C$16)) -> 0 | R41: =N($D41)*(N($B$11)+N($C$11)) -> 0 | S41: =N($B41)*(N($B$12*$B$16)) + N($C41)*(N($C$12*$C$16)) -> 0 | T41: =N($D41)*(N($B$12)+N($C$12)) -> 0 | U41: =N($B41)*(N($B$13*$B$16)) + N($C41)*(N($C$13*$C$16)) -> 0 | V41: =N($D41)*(N($B$13)+N($C$13)) -> 0 | W41: =N($B41)*(N($B$14*$B$16)) + N($C41)*(N($C$14*$C$16)) -> 0 | X41: =N($D41)*(N($B$14)+N($C$14)) -> 0 | Y41: =SUM(E41,G41,I41,K41,M41,O41,Q41,S41,U41,W41) -> 0 | Z41: =SUM(F41,H41,J41,L41,N41,P41,R41,T41,V41,X41) -> 0 | AA41: =IF($D$15=0,0,N(Y41)/$D$15) -> 0 | AB41: =IF($D$15=0,0,N(Z41)/$D$15) -> 0
E42: =N($B42)*(N($B$5*$B$16)) + N($C42)*(N($C$5*$C$16)) -> 0 | F42: =N($D42)*(N($B$5)+N($C$5)) -> 0 | G42: =N($B42)*(N($B$6*$B$16)) + N($C42)*(N($C$6*$C$16)) -> 0 | H42: =N($D42)*(N($B$6)+N($C$6)) -> 0 | I42: =N($B42)*(N($B$7*$B$16)) + N($C42)*(N($C$7*$C$16)) -> 0 | J42: =N($D42)*(N($B$7)+N($C$7)) -> 0 | K42: =N($B42)*(N($B$8*$B$16)) + N($C42)*(N($C$8*$C$16)) -> 0 | L42: =N($D42)*(N($B$8)+N($C$8)) -> 0 | M42: =N($B42)*(N($B$9*$B$16)) + N($C42)*(N($C$9*$C$16)) -> 0 | N42: =N($D42)*(N($B$9)+N($C$9)) -> 0 | O42: =N($B42)*(N($B$10*$B$16)) + N($C42)*(N($C$10*$C$16)) -> 0 | P42: =N($D42)*(N($B$10)+N($C$10)) -> 0 | Q42: =N($B42)*(N($B$11*$B$16)) + N($C42)*(N($C$11*$C$16)) -> 0 | R42: =N($D42)*(N($B$11)+N($C$11)) -> 0 | S42: =N($B42)*(N($B$12*$B$16)) + N($C42)*(N($C$12*$C$16)) -> 0 | T42: =N($D42)*(N($B$12)+N($C$12)) -> 0 | U42: =N($B42)*(N($B$13*$B$16)) + N($C42)*(N($C$13*$C$16)) -> 0 | V42: =N($D42)*(N($B$13)+N($C$13)) -> 0 | W42: =N($B42)*(N($B$14*$B$16)) + N($C42)*(N($C$14*$C$16)) -> 0 | X42: =N($D42)*(N($B$14)+N($C$14)) -> 0 | Y42: =SUM(E42,G42,I42,K42,M42,O42,Q42,S42,U42,W42) -> 0 | Z42: =SUM(F42,H42,J42,L42,N42,P42,R42,T42,V42,X42) -> 0 | AA42: =IF($D$15=0,0,N(Y42)/$D$15) -> 0 | AB42: =IF($D$15=0,0,N(Z42)/$D$15) -> 0
E43: =N($B43)*(N($B$5*$B$16)) + N($C43)*(N($C$5*$C$16)) -> 0 | F43: =N($D43)*(N($B$5)+N($C$5)) -> 0 | G43: =N($B43)*(N($B$6*$B$16)) + N($C43)*(N($C$6*$C$16)) -> 0 | H43: =N($D43)*(N($B$6)+N($C$6)) -> 0 | I43: =N($B43)*(N($B$7*$B$16)) + N($C43)*(N($C$7*$C$16)) -> 0 | J43: =N($D43)*(N($B$7)+N($C$7)) -> 0 | K43: =N($B43)*(N($B$8*$B$16)) + N($C43)*(N($C$8*$C$16)) -> 0 | L43: =N($D43)*(N($B$8)+N($C$8)) -> 0 | M43: =N($B43)*(N($B$9*$B$16)) + N($C43)*(N($C$9*$C$16)) -> 0 | N43: =N($D43)*(N($B$9)+N($C$9)) -> 0 | O43: =N($B43)*(N($B$10*$B$16)) + N($C43)*(N($C$10*$C$16)) -> 0 | P43: =N($D43)*(N($B$10)+N($C$10)) -> 0 | Q43: =N($B43)*(N($B$11*$B$16)) + N($C43)*(N($C$11*$C$16)) -> 0 | R43: =N($D43)*(N($B$11)+N($C$11)) -> 0 | S43: =N($B43)*(N($B$12*$B$16)) + N($C43)*(N($C$12*$C$16)) -> 0 | T43: =N($D43)*(N($B$12)+N($C$12)) -> 0 | U43: =N($B43)*(N($B$13*$B$16)) + N($C43)*(N($C$13*$C$16)) -> 0 | V43: =N($D43)*(N($B$13)+N($C$13)) -> 0 | W43: =N($B43)*(N($B$14*$B$16)) + N($C43)*(N($C$14*$C$16)) -> 0 | X43: =N($D43)*(N($B$14)+N($C$14)) -> 0 | Y43: =SUM(E43,G43,I43,K43,M43,O43,Q43,S43,U43,W43) -> 0 | Z43: =SUM(F43,H43,J43,L43,N43,P43,R43,T43,V43,X43) -> 0 | AA43: =IF($D$15=0,0,N(Y43)/$D$15) -> 0 | AB43: =IF($D$15=0,0,N(Z43)/$D$15) -> 0
E44: =N($B44)*(N($B$5*$B$16)) + N($C44)*(N($C$5*$C$16)) -> 0 | F44: =N($D44)*(N($B$5)+N($C$5)) -> 0 | G44: =N($B44)*(N($B$6*$B$16)) + N($C44)*(N($C$6*$C$16)) -> 0 | H44: =N($D44)*(N($B$6)+N($C$6)) -> 0 | I44: =N($B44)*(N($B$7*$B$16)) + N($C44)*(N($C$7*$C$16)) -> 0 | J44: =N($D44)*(N($B$7)+N($C$7)) -> 0 | K44: =N($B44)*(N($B$8*$B$16)) + N($C44)*(N($C$8*$C$16)) -> 0 | L44: =N($D44)*(N($B$8)+N($C$8)) -> 0 | M44: =N($B44)*(N($B$9*$B$16)) + N($C44)*(N($C$9*$C$16)) -> 0 | N44: =N($D44)*(N($B$9)+N($C$9)) -> 0 | O44: =N($B44)*(N($B$10*$B$16)) + N($C44)*(N($C$10*$C$16)) -> 0 | P44: =N($D44)*(N($B$10)+N($C$10)) -> 0 | Q44: =N($B44)*(N($B$11*$B$16)) + N($C44)*(N($C$11*$C$16)) -> 0 | R44: =N($D44)*(N($B$11)+N($C$11)) -> 0 | S44: =N($B44)*(N($B$12*$B$16)) + N($C44)*(N($C$12*$C$16)) -> 0 | T44: =N($D44)*(N($B$12)+N($C$12)) -> 0 | U44: =N($B44)*(N($B$13*$B$16)) + N($C44)*(N($C$13*$C$16)) -> 0 | V44: =N($D44)*(N($B$13)+N($C$13)) -> 0 | W44: =N($B44)*(N($B$14*$B$16)) + N($C44)*(N($C$14*$C$16)) -> 0 | X44: =N($D44)*(N($B$14)+N($C$14)) -> 0 | Y44: =SUM(E44,G44,I44,K44,M44,O44,Q44,S44,U44,W44) -> 0 | Z44: =SUM(F44,H44,J44,L44,N44,P44,R44,T44,V44,X44) -> 0 | AA44: =IF($D$15=0,0,N(Y44)/$D$15) -> 0 | AB44: =IF($D$15=0,0,N(Z44)/$D$15) -> 0
X45: Yhteensä | Y45: =SUM(Y19:Y44) -> 0 | Z45: =SUM(Z19:Z44) -> 0 | AA45: =IF($D$15=0,0,N(Y45)/$D$15) -> 0
A46: Lähteet:
A47: Saannot eri sivuvirroille on punnittu syksyllä 2025.
A48: Saantojen arvot ovat taulukossa ohjeelliset. Saantoihin vaikuttaa vuosi (teuraiden kunto) ja talteenottotapa. Tarkimmat omat saannot saa punnitsemalla vuosittain erän (5-10 teuraan keskiarvot) ja käyttämällä vuosittaista teuraiden painon keskiarvoa.
A49: Jokaisen osan suhteellisen osuuden saa laskettua seuraavalla kaavalla. Esim. Rustoluut 2,476 kg on prosentteina keskimääräisestä ruhon painosta: 2,476/20*100=12,38 %.

Sheet Yhteenveto
A1: Sarvet ja saparot kiertoon — Katelaskuri sivuvirtojen talteenottoon lihaleikkaamolla
A2: Ohje: Syötä vihreisiin kenttiin - Kaiken muun laskee automaattisesti.
A3: Kaavat on lukittu salasanalla 0000
A5: Omat laskentataulukot käyttötarkoituksen mukaan
A7: Käyttötarkoitukset:
A8: Elintarvike/kosmetiikka = E_K
A9: Eläinrehu = ER
A10: Tekninen käyttö=TK
A12: Pikaohje:
A14: 1) Saannot: syötä leikkauserät (vasat/raavaat)
A15: 2) Menot: syötä käyttötarkoituksittain aiheutuvat kulut ja investoinnit
A16: 3) Lisätyö: syötä aika-arvio lisätyöstä minuutteina
... A21: Elintarvike/kosmetiikka
A22: Mittari | B22: Arvo
A23: Ruhot yhteensä (kpl) | B23: =Saannot!B15+Saannot!C15 -> 0
A24: Kokonais-tuotanto (kg) | B24: =SUM(Saannot!Y17:Y44) -> 0
A25: Liikevaihto yhteensä (€) | B25: ='Tulot (E_K)'!I29 -> 0
A26: Menot + poistot (€ / laskentaerä) | B26: ='Menot (E_K)'!K28 -> 0
A27: Lisätyö (€/laskentaerä) | B27: =' Lisätyö (E_K)'!$E$37 -> 0
A28: Nettotulos ennen veroja (€) | B28: ='Tulot (E_K)'!I29-'Menot (E_K)'!K28-' Lisätyö (E_K)'!$E$37 -> 0
A29: €/kg keskimäärin (LV/kg) | B29: =IF(SUM(Saannot!Y45)=0,0,'Tulot (E_K)'!I30/SUM(Saannot!Y45)) -> 0
A31: Eläinrehu
A32: Mittari | B32: Arvo
A33: Ruhot yhteensä (kpl) | B33: =Saannot!B15+Saannot!C15 -> 0
A34: Kokonais-tuotanto (kg) | B34: =SUM(Saannot!Y17:Y44) -> 0
A35: Liikevaihto yhteensä (€) | B35: ='Tulot (ER)'!I39 -> 0
A36: Menot + poistot (€ / laskentaerä) | B36: ='Menot (ER)'!K38 -> 0
A37: Lisätyö (€/laskentaerä) | B37: =' Lisätyö (ER)'!$E$37 -> 0
A38: Nettotulos ennen veroja (€) | B38: ='Tulot (ER)'!I39-'Menot (ER)'!K38-' Lisätyö (ER)'!$E$37 -> 0
A39: €/kg keskimäärin (LV/kg) | B39: =IF(SUM(Saannot!Y45)=0,0,'Tulot (ER)'!I40/SUM(Saannot!Y45)) -> 0
A41: Tekninen käyttö
A42: Mittari | B42: Arvo
A43: Ruhot yhteensä (kpl) | B43: =Saannot!B15+Saannot!C15 -> 0
A44: Kokonais-tuotanto (kg) | B44: =SUM(Saannot!Y17:Y44) -> 0
A45: Liikevaihto yhteensä (€) | B45: ='Tulot (TK)'!I49 -> 0
A46: Menot + poistot (€ / laskentaerä) | B46: ='Menot (TK)'!K48 -> 0
A47: Lisätyö (€/laskentaerä) | B47: =' Lisätyö (TK)'!$E$37 -> 0
A48: Nettotulos ennen veroja (€) | B48: ='Tulot (TK)'!I49-'Menot (TK)'!K48-' Lisätyö (TK)'!$E$37 -> 0
A49: €/kg keskimäärin (LV/kg) | B49: =IF(SUM(Saannot!Y45)=0,0,'Tulot (TK)'!I50/SUM(Saannot!Y45)) -> 0

Sheet Menot (E_K)
A1: Menot ja investoinnit (kg-jakoperuste) - Elintarvike/kosmetiikka
A2: Ohje: Täytä vihreät kentät : Investoinneissa arvioi käyttöikä vuosina sekä mahdollinen jäännösarvo käyttöiän jälkeen - oletuksena Jäännösarvo 0. Jakoperuste 'kaikki': kg.
A3: Kirjoita kohdistus-kenttään "kaikki" tai vaihtoehtoisesti yksilöity Nimike, jolle kulu kohdistuu suoraan esim. "putkiluut"
A4: Menolaji | B4: Kohdistus | C4: Määrän MUUTOS | D4: €/yksikkö | E4: määrä_yksikkö | F4: Kustannus_eur_laskentaerä | G4: investointi_eur | H4: Käyttöikä_v | I4: Jäännösarvo_eur | J4: Poisto_eur_vuosi | K4: Kustannus_yht
A5: Investointi 1 | B5: kaikki | G5: 0 | H5: 5 | I5: 0 | J5: =IF(G5="", "", (G5-I5)/H5) -> 0 | K5: =IFERROR(N(F5)+N(J5), N(F5)+0) -> 0
A6: Investointi 2 | B6: kaikki | G6: 0 | H6: 5 | I6: 0 | J6: =IF(G6="", "", (G6-I6)/H6) -> 0 | K6: =IFERROR(N(F6)+N(J6), N(F6)+0) -> 0
A7: Investointi 3 | B7: kaikki | G7: 0 | H7: 5 | I7: 0 | J7: =IF(G7="", "", (G7-I7)/H7) -> 0 | K7: =IFERROR(N(F7)+N(J7), N(F7)+0) -> 0
A8: Investointi 4 | B8: kaikki | G8: 0 | H8: 5 | I8: 0 | J8: =IF(G8="", "", (G8-I8)/H8) -> 0 | K8: =IFERROR(N(F8)+N(J8), N(F8)+0) -> 0
A9: Investointi 5 | B9: kaikki | G9: 0 | H9: 5 | I9: 0 | J9: =IF(G9="", "", (G9-I9)/H9) -> 0 | K9: =IFERROR(N(F9)+N(J9), N(F9)+0) -> 0
A10: Investointi 6 | B10: kaikki | G10: 0 | H10: 5 | I10: 0 | J10: =IF(G10="", "", (G10-I10)/H10) -> 0 | K10: =IFERROR(N(F10)+N(J10), N(F10)+0) -> 0
A11: Investointi 7 | B11: kaikki | G11: 0 | H11: 5 | I11: 0 | J11: =IF(G11="", "", (G11-I11)/H11) -> 0 | K11: =IFERROR(N(F11)+N(J11), N(F11)+0) -> 0
A12: Investointi 8 | B12: kaikki | G12: 0 | H12: 5 | I12: 0 | J12: =IF(G12="", "", (G12-I12)/H12) -> 0 | K12: =IFERROR(N(F12)+N(J12), N(F12)+0) -> 0
A13: Investointi 9 | B13: kaikki | G13: 0 | H13: 5 | I13: 0 | J13: =IF(G13="", "", (G13-I13)/H13) -> 0 | K13: =IFERROR(N(F13)+N(J13), N(F13)+0) -> 0
A14: Investointi 10 | B14: kaikki | G14: 0 | H14: 5 | I14: 0 | J14: =IF(G14="", "", (G14-I14)/H14) -> 0 | K14: =IFERROR(N(F14)+N(J14), N(F14)+0) -> 0
A15: Menoerä 1 | B15: kaikki | F15: 0 | J15: =IF(G15="", "", (G15-I15)/H15) | K15: =IFERROR(N(F15)+N(J15), N(F15)+0) -> 0
A16: Menoerä 2 | B16: kaikki | F16: 0 | J16: =IF(G16="", "", (G16-I16)/H16) | K16: =IFERROR(N(F16)+N(J16), N(F16)+0) -> 0
A17: Menoerä 3 | B17: kaikki | F17: 0 | J17: =IF(G17="", "", (G17-I17)/H17) | K17: =IFERROR(N(F17)+N(J17), N(F17)+0) -> 0
A18: Menoerä 4 | B18: kaikki | F18: 0 | K18: =IFERROR(N(F18)+N(J18), N(F18)+0) -> 0
A19: Menoerä 5 | B19: kaikki | F19: 0 | K19: =IFERROR(N(F19)+N(J19), N(F19)+0) -> 0
A20: Menoerä 6 | B20: kaikki | F20: 0 | K20: =IFERROR(N(F20)+N(J20), N(F20)+0) -> 0
A21: Menoerä 7 | B21: kaikki | F21: 0 | K21: =IFERROR(N(F21)+N(J21), N(F21)+0) -> 0
A22: Menoerä 8 | B22: kaikki | F22: 0 | K22: =IFERROR(N(F22)+N(J22), N(F22)+0) -> 0
A23: Menoerä 9 | B23: kaikki | F23: 0 | K23: =IFERROR(N(F23)+N(J23), N(F23)+0) -> 0
A24: Menoerä 10 | B24: kaikki | F24: 0 | K24: =IFERROR(N(F24)+N(J24), N(F24)+0) -> 0
A25: Sähkö | B25: kaikki | C25: 0 | D25: 0 | E25: kWh | F25: =C25*D25 -> 0 | J25: =IF(G25="", "", (G25-I25)/H25) | K25: =IFERROR(N(F25)+N(J25), N(F25)+0) -> 0
A26: Vesi | B26: kaikki | C26: 0 | D26: 0 | E26: m3 | F26: =C26*D26 -> 0 | J26: =IF(G26="", "", (G26-I26)/H26) | K26: =IFERROR(N(F26)+N(J26), N(F26)+0) -> 0
A27: Jätekustannukset | B27: kaikki | C27: 0 | D27: 0 | E27: tonnia | F27: =C27*D27 -> 0 | J27: =IF(G27="", "", (G27-I27)/H27) | K27: =IFERROR(N(F27)+N(J27), N(F27)+0) -> 0
E28: Yhteensä | F28: =SUM(F5:F27) -> 0 | G28: =SUM(G5:G27) -> 0 | J28: =SUM(J5:J27) -> 0 | K28: =SUM(K5:K27) -> 0
A31: Kohdistus (kg-jakoperuste 'kaikki'-riveille) — tulos €/kg per nimike
B32: Kokonais-kg (Saannot) | C32: =SUM(Saannot!Y19:Y44) -> 0 | E32: Kaikki-pooli (vuosikustannus) € | F32: =SUMIF($B$5:$B$27,"kaikki",$K$5:$K$27) -> 0
A33: Nimike | B33: kg/vuosi | C33: Osuus kaikesta | D33: Suorat € (kohdistus) | E33: Kaikki-pooli € | F33: Yhteensä € | G33: €/kg
A34: =Saannot!A19 -> Rustoluut (lantio, kylkiluu, rintalasta, lapaluu, ranka ja kaula) | B34: =IFERROR(Saannot!Y19,0) -> 0 | C34: =IF($C$32=0,0,B34/$C$32) -> 0 | D34: =SUMIF($B$5:$B$27,A34,$K$5:$K$27) -> 0 | E34: =$F$32*C34 -> 0 | F34: =D34+E34 -> 0 | G34: =IF(B34=0,0,F34/B34) -> 0
A35: =Saannot!A20 -> Putkiluut | B35: =IFERROR(Saannot!Y20,0) -> 0 | C35: =IF($C$32=0,0,B35/$C$32) -> 0 | D35: =SUMIF($B$5:$B$27,A35,$K$5:$K$27) -> 0 | E35: =$F$32*C35 -> 0 | F35: =D35+E35 -> 0 | G35: =IF(B35=0,0,F35/B35) -> 0
A36: =Saannot!A21 -> Potkanpäät | B36: =IFERROR(Saannot!Y21,0) -> 0 | C36: =IF($C$32=0,0,B36/$C$32) -> 0 | D36: =SUMIF($B$5:$B$27,A36,$K$5:$K$27) -> 0 | E36: =$F$32*C36 -> 0 | F36: =D36+E36 -> 0 | G36: =IF(B36=0,0,F36/B36) -> 0
A37: =Saannot!A22 -> Niskajänne | B37: =IFERROR(Saannot!Y22,0) -> 0 | C37: =IF($C$32=0,0,B37/$C$32) -> 0 | D37: =SUMIF($B$5:$B$27,A37,$K$5:$K$27) -> 0 | E37: =$F$32*C37 -> 0 | F37: =D37+E37 -> 0 | G37: =IF(B37=0,0,F37/B37) -> 0
A38: =Saannot!A23 -> Jännetupit | B38: =IFERROR(Saannot!Y23,0) -> 0 | C38: =IF($C$32=0,0,B38/$C$32) -> 0 | D38: =SUMIF($B$5:$B$27,A38,$K$5:$K$27) -> 0 | E38: =$F$32*C38 -> 0 | F38: =D38+E38 -> 0 | G38: =IF(B38=0,0,F38/B38) -> 0
A39: =Saannot!A24 -> Rasvat | B39: =IFERROR(Saannot!Y24,0) -> 0 | C39: =IF($C$32=0,0,B39/$C$32) -> 0 | D39: =SUMIF($B$5:$B$27,A39,$K$5:$K$27) -> 0 | E39: =$F$32*C39 -> 0 | F39: =D39+E39 -> 0 | G39: =IF(B39=0,0,F39/B39) -> 0
A40: =Saannot!A25 -> Kalvot | B40: =IFERROR(Saannot!Y25,0) -> 0 | C40: =IF($C$32=0,0,B40/$C$32) -> 0 | D40: =SUMIF($B$5:$B$27,A40,$K$5:$K$27) -> 0 | E40: =$F$32*C40 -> 0 | F40: =D40+E40 -> 0 | G40: =IF(B40=0,0,F40/B40) -> 0
A41: =Saannot!A26 -> Kaulankärki | B41: =IFERROR(Saannot!Y26,0) -> 0 | C41: =IF($C$32=0,0,B41/$C$32) -> 0 | D41: =SUMIF($B$5:$B$27,A41,$K$5:$K$27) -> 0 | E41: =$F$32*C41 -> 0 | F41: =D41+E41 -> 0 | G41: =IF(B41=0,0,F41/B41) -> 0
A42: =Saannot!A27 -> Osa 1. | B42: =IFERROR(Saannot!Y27,0) -> 0 | C42: =IF($C$32=0,0,B42/$C$32) -> 0 | D42: =SUMIF($B$5:$B$27,A42,$K$5:$K$27) -> 0 | E42: =$F$32*C42 -> 0 | F42: =D42+E42 -> 0 | G42: =IF(B42=0,0,F42/B42) -> 0
A43: =Saannot!A28 -> Osa 2. | B43: =IFERROR(Saannot!Y28,0) -> 0 | C43: =IF($C$32=0,0,B43/$C$32) -> 0 | D43: =SUMIF($B$5:$B$27,A43,$K$5:$K$27) -> 0 | E43: =$F$32*C43 -> 0 | F43: =D43+E43 -> 0 | G43: =IF(B43=0,0,F43/B43) -> 0
A44: =Saannot!A29 -> Osa 3. | B44: =IFERROR(Saannot!Y29,0) -> 0 | C44: =IF($C$32=0,0,B44/$C$32) -> 0 | D44: =SUMIF($B$5:$B$27,A44,$K$5:$K$27) -> 0 | E44: =$F$32*C44 -> 0 | F44: =D44+E44 -> 0 | G44: =IF(B44=0,0,F44/B44) -> 0
A45: =Saannot!A30 -> Lajitelma 1. | B45: =IFERROR(Saannot!Y30,0) -> 0 | C45: =IF($C$32=0,0,B45/$C$32) -> 0 | D45: =SUMIF($B$5:$B$27,A45,$K$5:$K$27) -> 0 | E45: =$F$32*C45 -> 0 | F45: =D45+E45 -> 0 | G45: =IF(B45=0,0,F45/B45) -> 0
... A57: =Saannot!A42 -> 0 | B57: =IFERROR(Saannot!Y42,0) -> 0 | C57: =IF($C$32=0,0,B57/$C$32) -> 0 | D57: =SUMIF($B$5:$B$27,A57,$K$5:$K$27) -> 0 | E57: =$F$32*C57 -> 0 | F57: =D57+E57 -> 0 | G57: =IF(B57=0,0,F57/B57) -> 0
A58: Yhteensä | B58: =SUM(B34:B57) -> 0 | C58: =SUM(C34:C57) -> 0 | D58: =SUM(D34:D57) -> 0 | E58: =SUM(E34:E57) -> 0 | F58: =SUM(F34:F57) -> 0 | G58: =F58/B58 -> #DIV/0!

Sheet  Lisätyö (E_K)
A1: Lisätyöstä aiheutuvat kustannukset (€) - Elintarvike/kosmetiikka
A3: Ohje: Arvioi lisätyön tuntihinta
A4: Arvioi lisätyön määrä minuutteina per ruho sivuvirroittain (lisätyöaika läpimenoon sekä pakkaamiseen käytetty lisätyöaika)
A5: Mikäli et halua huomioida lisätyön osuutta laskennassa lainkaan, syötä tuntihinnaksi 0,00 EUR
A7: Lisätyön tuntihinta | B7: 0
A8: Lisätyö €/minuutti | B8: =B7/60 -> 0
A9: Ruhomäärät kpl | B9: =Saannot!D15 -> 0
A12: Sivuvirta | B12: Lisätyö minuutteina_per_ruho | C12: Sisältyy lihankäsittelytyöhön | D12: Lisätyön kustannus/min | E12: Lisätyön kustannus yhteensä
A13: ='Menot (E_K)'!A34 -> Rustoluut (lantio, kylkiluu, rintalasta, lapaluu, ranka ja kaula) | C13: =IF(B13>0,"EI","Kyllä") -> Kyllä | D13: =IF(C13="Kyllä",0,$B$8) -> 0 | E13: =(B13*$B$9)*D13 -> 0
A14: ='Menot (E_K)'!A35 -> Putkiluut | C14: =IF(B14>0,"EI","Kyllä") -> Kyllä | D14: =IF(C14="Kyllä",0,$B$8) -> 0 | E14: =(B14*$B$9)*D14 -> 0
A15: ='Menot (E_K)'!A36 -> Potkanpäät | C15: =IF(B15>0,"EI","Kyllä") -> Kyllä | D15: =IF(C15="Kyllä",0,$B$8) -> 0 | E15: =(B15*$B$9)*D15 -> 0
A16: ='Menot (E_K)'!A37 -> Niskajänne | C16: =IF(B16>0,"EI","Kyllä") -> Kyllä | D16: =IF(C16="Kyllä",0,$B$8) -> 0 | E16: =(B16*$B$9)*D16 -> 0
A17: ='Menot (E_K)'!A38 -> Jännetupit | C17: =IF(B17>0,"EI","Kyllä") -> Kyllä | D17: =IF(C17="Kyllä",0,$B$8) -> 0 | E17: =(B17*$B$9)*D17 -> 0
A18: ='Menot (E_K)'!A39 -> Rasvat | C18: =IF(B18>0,"EI","Kyllä") -> Kyllä | D18: =IF(C18="Kyllä",0,$B$8) -> 0 | E18: =(B18*$B$9)*D18 -> 0
A19: ='Menot (E_K)'!A40 -> Kalvot | C19: =IF(B19>0,"EI","Kyllä") -> Kyllä | D19: =IF(C19="Kyllä",0,$B$8) -> 0 | E19: =(B19*$B$9)*D19 -> 0
A20: ='Menot (E_K)'!A41 -> Kaulankärki | C20: =IF(B20>0,"EI","Kyllä") -> Kyllä | D20: =IF(C20="Kyllä",0,$B$8) -> 0 | E20: =(B20*$B$9)*D20 -> 0
A21: ='Menot (E_K)'!A42 -> Osa 1. | C21: =IF(B21>0,"EI","Kyllä") -> Kyllä | D21: =IF(C21="Kyllä",0,$B$8) -> 0 | E21: =(B21*$B$9)*D21 -> 0
A22: ='Menot (E_K)'!A43 -> Osa 2. | C22: =IF(B22>0,"EI","Kyllä") -> Kyllä | D22: =IF(C22="Kyllä",0,$B$8) -> 0 | E22: =(B22*$B$9)*D22 -> 0
A23: ='Menot (E_K)'!A44 -> Osa 3. | C23: =IF(B23>0,"EI","Kyllä") -> Kyllä | D23: =IF(C23="Kyllä",0,$B$8) -> 0 | E23: =(B23*$B$9)*D23 -> 0
A24: ='Menot (E_K)'!A45 -> Lajitelma 1. | C24: =IF(B24>0,"EI","Kyllä") -> Kyllä | D24: =IF(C24="Kyllä",0,$B$8) -> 0 | E24: =(B24*$B$9)*D24 -> 0
... A36: ='Menot (E_K)'!A57 -> 0 | C36: =IF(B36>0,"EI","Kyllä") -> Kyllä | D36: =IF(C36="Kyllä",0,$B$8) -> 0 | E36: =(B36*$B$9)*D36 -> 0
D37: Yhteensä | E37: =SUM(E13:E36) -> 0

Sheet Tulot (E_K)
A1: Tulot - Elintarvike/kosmetiikka | B1: =Saannot!$D$15 -> 0 | C1: Teuraiden määrä (kpl)
A2: Ohje: Syötä Hinta euroina per kg TAI euroina per kpl
A4: tuote | B4: kg_per_teuras | C4: kpl_per_teuras | D4: Hinta_eur_per_kg | E4: Hinta_eur_per_kpl | F4: Teuraat_kpl | G4: Kokonais_kg | H4: Kokonais_kpl | I4: Liikevaihto_eur | J4: Kustannus_eur_kg (Menot) | K4: Kustannus_yht (€) | L4: Lisätyö | M4: Kate (€) | N4: Kate%
A5: =' Lisätyö (E_K)'!A13 -> Rustoluut (lantio, kylkiluu, rintalasta, lapaluu, ranka ja kaula) | B5: =Saannot!AA19 -> 0 | C5: =Saannot!AB19 -> 0 | D5: 0 | F5: =$B$1 -> 0 | G5: =N(B5)*N(F5) -> 0 | H5: =N(C5)*N(F5) -> 0 | I5: =N(G5)*N(D5) + N(H5)*N(E5) -> 0 | J5: =IFERROR(VLOOKUP(A5,'Menot (E_K)'!$A$34:$G$57,7,FALSE),0) -> 0 | K5: =J5*G5 -> 0 | L5: =' Lisätyö (E_K)'!E13 -> 0 | M5: =I5-K5-L5 -> 0 | N5: =M5/I5 -> #DIV/0!
A6: =' Lisätyö (E_K)'!A14 -> Putkiluut | B6: =Saannot!AA20 -> 0 | C6: =Saannot!AB20 -> 0 | D6: 0 | F6: =$B$1 -> 0 | G6: =N(B6)*N(F6) -> 0 | H6: =N(C6)*N(F6) -> 0 | I6: =N(G6)*N(D6) + N(H6)*N(E6) -> 0 | J6: =IFERROR(VLOOKUP(A6,'Menot (E_K)'!$A$34:$G$57,7,FALSE),0) -> 0 | K6: =J6*G6 -> 0 | L6: =' Lisätyö (E_K)'!E14 -> 0 | M6: =I6-K6-L6 -> 0 | N6: =M6/I6 -> #DIV/0!
A7: =' Lisätyö (E_K)'!A15 -> Potkanpäät | B7: =Saannot!AA21 -> 0 | C7: =Saannot!AB21 -> 0 | D7: 0 | F7: =$B$1 -> 0 | G7: =N(B7)*N(F7) -> 0 | H7: =N(C7)*N(F7) -> 0 | I7: =N(G7)*N(D7) + N(H7)*N(E7) -> 0 | J7: =IFERROR(VLOOKUP(A7,'Menot (E_K)'!$A$34:$G$57,7,FALSE),0) -> 0 | K7: =J7*G7 -> 0 | L7: =' Lisätyö (E_K)'!E15 -> 0 | M7: =I7-K7-L7 -> 0 | N7: =M7/I7 -> #DIV/0!
A8: =' Lisätyö (E_K)'!A16 -> Niskajänne | B8: =Saannot!AA22 -> 0 | C8: =Saannot!AB22 -> 0 | D8: 0 | F8: =$B$1 -> 0 | G8: =N(B8)*N(F8) -> 0 | H8: =N(C8)*N(F8) -> 0 | I8: =N(G8)*N(D8) + N(H8)*N(E8) -> 0 | J8: =IFERROR(VLOOKUP(A8,'Menot (E_K)'!$A$34:$G$57,7,FALSE),0) -> 0 | K8: =J8*G8 -> 0 | L8: =' Lisätyö (E_K)'!E16 -> 0 | M8: =I8-K8-L8 -> 0 | N8: =M8/I8 -> #DIV/0!
A9: =' Lisätyö (E_K)'!A17 -> Jännetupit | B9: =Saannot!AA23 -> 0 | C9: =Saannot!AB23 -> 0 | D9: 0 | F9: =$B$1 -> 0 | G9: =N(B9)*N(F9) -> 0 | H9: =N(C9)*N(F9) -> 0 | I9: =N(G9)*N(D9) + N(H9)*N(E9) -> 0 | J9: =IFERROR(VLOOKUP(A9,'Menot (E_K)'!$A$34:$G$57,7,FALSE),0) -> 0 | K9: =J9*G9 -> 0 | L9: =' Lisätyö (E_K)'!E17 -> 0 | M9: =I9-K9-L9 -> 0 | N9: =M9/I9 -> #DIV/0!
A10: =' Lisätyö (E_K)'!A18 -> Rasvat | B10: =Saannot!AA24 -> 0 | C10: =Saannot!AB24 -> 0 | D10: 0 | F10: =$B$1 -> 0 | G10: =N(B10)*N(F10) -> 0 | H10: =N(C10)*N(F10) -> 0 | I10: =N(G10)*N(D10) + N(H10)*N(E10) -> 0 | J10: =IFERROR(VLOOKUP(A10,'Menot (E_K)'!$A$34:$G$57,7,FALSE),0) -> 0 | K10: =J10*G10 -> 0 | L10: =' Lisätyö (E_K)'!E18 -> 0 | M10: =I10-K10-L10 -> 0 | N10: =M10/I10 -> #DIV/0!
A11: =' Lisätyö (E_K)'!A19 -> Kalvot | B11: =Saannot!AA25 -> 0 | C11: =Saannot!AB25 -> 0 | D11: 0 | F11: =$B$1 -> 0 | G11: =N(B11)*N(F11) -> 0 | H11: =N(C11)*N(F11) -> 0 | I11: =N(G11)*N(D11) + N(H11)*N(E11) -> 0 | J11: =IFERROR(VLOOKUP(A11,'Menot (E_K)'!$A$34:$G$57,7,FALSE),0) -> 0 | K11: =J11*G11 -> 0 | L11: =' Lisätyö (E_K)'!E19 -> 0 | M11: =I11-K11-L11 -> 0 | N11: =M11/I11 -> #DIV/0!
A12: =' Lisätyö (E_K)'!A20 -> Kaulankärki | B12: =Saannot!AA26 -> 0 | C12: =Saannot!AB26 -> 0 | D12: 0 | F12: =$B$1 -> 0 | G12: =N(B12)*N(F12) -> 0 | H12: =N(C12)*N(F12) -> 0 | I12: =N(G12)*N(D12) + N(H12)*N(E12) -> 0 | J12: =IFERROR(VLOOKUP(A12,'Menot (E_K)'!$A$34:$G$57,7,FALSE),0) -> 0 | K12: =J12*G12 -> 0 | L12: =' Lisätyö (E_K)'!E20 -> 0 | M12: =I12-K12-L12 -> 0 | N12: =M12/I12 -> #DIV/0!
A13: =' Lisätyö (E_K)'!A21 -> Osa 1. | B13: =Saannot!AA27 -> 0 | C13: =Saannot!AB27 -> 0 | D13: 0 | F13: =$B$1 -> 0 | G13: =N(B13)*N(F13) -> 0 | H13: =N(C13)*N(F13) -> 0 | I13: =N(G13)*N(D13) + N(H13)*N(E13) -> 0 | J13: =IFERROR(VLOOKUP(A13,'Menot (E_K)'!$A$34:$G$57,7,FALSE),0) -> 0 | K13: =J13*G13 -> 0 | L13: =' Lisätyö (E_K)'!E21 -> 0 | M13: =I13-K13-L13 -> 0 | N13: =M13/I13 -> #DIV/0!
A14: =' Lisätyö (E_K)'!A22 -> Osa 2. | B14: =Saannot!AA28 -> 0 | C14: =Saannot!AB28 -> 0 | D14: 0 | F14: =$B$1 -> 0 | G14: =N(B14)*N(F14) -> 0 | H14: =N(C14)*N(F14) -> 0 | I14: =N(G14)*N(D14) + N(H14)*N(E14) -> 0 | J14: =IFERROR(VLOOKUP(A14,'Menot (E_K)'!$A$34:$G$57,7,FALSE),0) -> 0 | K14: =J14*G14 -> 0 | L14: =' Lisätyö (E_K)'!E22 -> 0 | M14: =I14-K14-L14 -> 0 | N14: =M14/I14 -> #DIV/0!
A15: =' Lisätyö (E_K)'!A23 -> Osa 3. | B15: =Saannot!AA29 -> 0 | C15: =Saannot!AB29 -> 0 | D15: 0 | F15: =$B$1 -> 0 | G15: =N(B15)*N(F15) -> 0 | H15: =N(C15)*N(F15) -> 0 | I15: =N(G15)*N(D15) + N(H15)*N(E15) -> 0 | J15: =IFERROR(VLOOKUP(A15,'Menot (E_K)'!$A$34:$G$57,7,FALSE),0) -> 0 | K15: =J15*G15 -> 0 | L15: =' Lisätyö (E_K)'!E23 -> 0 | M15: =I15-K15-L15 -> 0 | N15: =M15/I15 -> #DIV/0!
A16: =' Lisätyö (E_K)'!A24 -> Lajitelma 1. | B16: =Saannot!AA30 -> 0 | C16: =Saannot!AB30 -> 0 | D16: 0 | F16: =$B$1 -> 0 | G16: =N(B16)*N(F16) -> 0 | H16: =N(C16)*N(F16) -> 0 | I16: =N(G16)*N(D16) + N(H16)*N(E16) -> 0 | J16: =IFERROR(VLOOKUP(A16,'Menot (E_K)'!$A$34:$G$57,7,FALSE),0) -> 0 | K16: =J16*G16 -> 0 | L16: =' Lisätyö (E_K)'!E24 -> 0 | M16: =I16-K16-L16 -> 0 | N16: =M16/I16 -> #DIV/0!
... A18: =' Lisätyö (E_K)'!A26 -> Lajitelma 3. | B18: =Saannot!AA32 -> 0 | C18: =Saannot!AB32 -> 0 | D18: 0 | F18: =$B$1 -> 0 | G18: =N(B18)*N(F18) -> 0 | H18: =N(C18)*N(F18) -> 0 | I18: =N(G18)*N(D18) + N(H18)*N(E18) -> 0 | J18: =IFERROR(VLOOKUP(A18,'Menot (E_K)'!$A$34:$G$57,7,FALSE),0) -> 0 | K18: =J18*G18 -> 0 | L18: =' Lisätyö (E_K)'!E26 -> 0 | M18: =I18-K18-L18 -> 0 | N18: =M18/I18 -> #DIV/0!
A19: =' Lisätyö (E_K)'!A27 -> 0 | B19: =Saannot!AA33 -> 0 | C19: =Saannot!AB33 -> 0 | F19: =$B$1 -> 0 | G19: =N(B19)*N(F19) -> 0 | H19: =N(C19)*N(F19) -> 0 | I19: =N(G19)*N(D19) + N(H19)*N(E19) -> 0 | J19: =IFERROR(VLOOKUP(A19,'Menot (E_K)'!$A$34:$G$57,7,FALSE),0) -> 0 | K19: =J19*G19 -> 0 | L19: =' Lisätyö (E_K)'!E27 -> 0 | M19: =I19-K19-L19 -> 0 | N19: =M19/I19 -> #DIV/0!
A20: =' Lisätyö (E_K)'!A28 -> 0 | B20: =Saannot!AA34 -> 0 | C20: =Saannot!AB34 -> 0 | F20: =$B$1 -> 0 | G20: =N(B20)*N(F20) -> 0 | H20: =N(C20)*N(F20) -> 0 | I20: =N(G20)*N(D20) + N(H20)*N(E20) -> 0 | J20: =IFERROR(VLOOKUP(A20,'Menot (E_K)'!$A$34:$G$57,7,FALSE),0) -> 0 | K20: =J20*G20 -> 0 | L20: =' Lisätyö (E_K)'!E28 -> 0 | M20: =I20-K20-L20 -> 0 | N20: =M20/I20 -> #DIV/0!
A21: =' Lisätyö (E_K)'!A29 -> 0 | B21: =Saannot!AA35 -> 0 | C21: =Saannot!AB35 -> 0 | F21: =$B$1 -> 0 | G21: =N(B21)*N(F21) -> 0 | H21: =N(C21)*N(F21) -> 0 | I21: =N(G21)*N(D21) + N(H21)*N(E21) -> 0 | J21: =IFERROR(VLOOKUP(A21,'Menot (E_K)'!$A$34:$G$57,7,FALSE),0) -> 0 | K21: =J21*G21 -> 0 | L21: =' Lisätyö (E_K)'!E29 -> 0 | M21: =I21-K21-L21 -> 0 | N21: =M21/I21 -> #DIV/0!
A22: =' Lisätyö (E_K)'!A30 -> 0 | B22: =Saannot!AA36 -> 0 | C22: =Saannot!AB36 -> 0 | F22: =$B$1 -> 0 | G22: =N(B22)*N(F22) -> 0 | H22: =N(C22)*N(F22) -> 0 | I22: =N(G22)*N(D22) + N(H22)*N(E22) -> 0 | J22: =IFERROR(VLOOKUP(A22,'Menot (E_K)'!$A$34:$G$57,7,FALSE),0) -> 0 | K22: =J22*G22 -> 0 | L22: =' Lisätyö (E_K)'!E30 -> 0 | M22: =I22-K22-L22 -> 0 | N22: =M22/I22 -> #DIV/0!
A23: =' Lisätyö (E_K)'!A31 -> 0 | B23: =Saannot!AA37 -> 0 | C23: =Saannot!AB37 -> 0 | F23: =$B$1 -> 0 | G23: =N(B23)*N(F23) -> 0 | H23: =N(C23)*N(F23) -> 0 | I23: =N(G23)*N(D23) + N(H23)*N(E23) -> 0 | J23: =IFERROR(VLOOKUP(A23,'Menot (E_K)'!$A$34:$G$57,7,FALSE),0) -> 0 | K23: =J23*G23 -> 0 | L23: =' Lisätyö (E_K)'!E31 -> 0 | M23: =I23-K23-L23 -> 0 | N23: =M23/I23 -> #DIV/0!
A24: =' Lisätyö (E_K)'!A32 -> 0 | B24: =Saannot!AA38 -> 0 | C24: =Saannot!AB38 -> 0 | F24: =$B$1 -> 0 | G24: =N(B24)*N(F24) -> 0 | H24: =N(C24)*N(F24) -> 0 | I24: =N(G24)*N(D24) + N(H24)*N(E24) -> 0 | J24: =IFERROR(VLOOKUP(A24,'Menot (E_K)'!$A$34:$G$57,7,FALSE),0) -> 0 | K24: =J24*G24 -> 0 | L24: =' Lisätyö (E_K)'!E32 -> 0 | M24: =I24-K24-L24 -> 0 | N24: =M24/I24 -> #DIV/0!
A25: =' Lisätyö (E_K)'!A33 -> 0 | B25: =Saannot!AA39 -> 0 | C25: =Saannot!AB39 -> 0 | F25: =$B$1 -> 0 | G25: =N(B25)*N(F25) -> 0 | H25: =N(C25)*N(F25) -> 0 | I25: =N(G25)*N(D25) + N(H25)*N(E25) -> 0 | J25: =IFERROR(VLOOKUP(A25,'Menot (E_K)'!$A$34:$G$57,7,FALSE),0) -> 0 | K25: =J25*G25 -> 0 | L25: =' Lisätyö (E_K)'!E33 -> 0 | M25: =I25-K25-L25 -> 0 | N25: =M25/I25 -> #DIV/0!
A26: =' Lisätyö (E_K)'!A34 -> 0 | B26: =Saannot!AA40 -> 0 | C26: =Saannot!AB40 -> 0 | F26: =$B$1 -> 0 | G26: =N(B26)*N(F26) -> 0 | H26: =N(C26)*N(F26) -> 0 | I26: =N(G26)*N(D26) + N(H26)*N(E26) -> 0 | J26: =IFERROR(VLOOKUP(A26,'Menot (E_K)'!$A$34:$G$57,7,FALSE),0) -> 0 | K26: =J26*G26 -> 0 | L26: =' Lisätyö (E_K)'!E34 -> 0 | M26: =I26-K26-L26 -> 0 | N26: =M26/I26 -> #DIV/0!
A27: =' Lisätyö (E_K)'!A35 -> 0 | B27: =Saannot!AA41 -> 0 | C27: =Saannot!AB41 -> 0 | F27: =$B$1 -> 0 | G27: =N(B27)*N(F27) -> 0 | H27: =N(C27)*N(F27) -> 0 | I27: =N(G27)*N(D27) + N(H27)*N(E27) -> 0 | J27: =IFERROR(VLOOKUP(A27,'Menot (E_K)'!$A$34:$G$57,7,FALSE),0) -> 0 | K27: =J27*G27 -> 0 | L27: =' Lisätyö (E_K)'!E35 -> 0 | M27: =I27-K27-L27 -> 0 | N27: =M27/I27 -> #DIV/0!
A28: =' Lisätyö (E_K)'!A36 -> 0 | B28: =Saannot!AA42 -> 0 | C28: =Saannot!AB42 -> 0 | F28: =$B$1 -> 0 | G28: =N(B28)*N(F28) -> 0 | H28: =N(C28)*N(F28) -> 0 | I28: =N(G28)*N(D28) + N(H28)*N(E28) -> 0 | J28: =IFERROR(VLOOKUP(A28,'Menot (E_K)'!$A$34:$G$57,7,FALSE),0) -> 0 | K28: =J28*G28 -> 0 | L28: =' Lisätyö (E_K)'!E36 -> 0 | M28: =I28-K28-L28 -> 0 | N28: =M28/I28 -> #DIV/0!
A29: Yhteensä | I29: =SUM(I5:I28) -> 0 | K29: =SUM(K5:K28) -> 0 | L29: =SUM(L5:L28) -> 0 | M29: =SUM(M5:M28) -> 0 | N29: =M29/I29 -> #DIV/0!
H30: Tulot yhteensä | I30: =SUM(I5:I28) -> 0
A31: Huom: | B31: Kustannus €/kg-kohdistus toimii kg-nimikkeille. Jos nimikkeellä kg=0 (kpl-tuote), kustannus jää 0 €

Sheet Maksuaika (E_K)
A1: Investointien maksuaika (yksinkertainen) - Elintarvike/kosmetiikka
A2: Oletus: ilman investointia laatu ei kelpaa → tuotteiden myynti ei ole mahdollista. Maksuaika lasketaan kohteen vuosikatteen perusteella.
A3: Maksuaika (vuotta) = investointi (€) / kohteen kate (€ / vuosi). Kohde = 'kaikki' käyttää kaikkien tuotteiden katetta.
A5: Osuus katteesta, jonka investointi mahdollistaa
A6: Perus | B6: 1
A8: Investointi | B8: Kohde (mihin tarvitaan) | C8: Investointi € | D8: Kohteen kate €/v | E8: Maksuaika v | F8: Maksuaika kk | G8: Katettu pvm
A9: ='Menot (E_K)'!A5 -> Investointi 1 | B9: ='Menot (E_K)'!B5 -> kaikki | C9: ='Menot (E_K)'!G5 -> 0 | D9: =IF(B9="kaikki",'Tulot (E_K)'!$M$29,IFERROR(VLOOKUP(B9,'Tulot (E_K)'!$A$5:$M$29,13,FALSE),0)) -> 0 | E9: =IF(D9=0,"", C9/($B$6*D9)) | F9: =IF(E9="","", E9*12) | G9: =IF(E9="","", TODAY() + ROUND(E9*365,0))
A10: ='Menot (E_K)'!A6 -> Investointi 2 | B10: ='Menot (E_K)'!B6 -> kaikki | C10: ='Menot (E_K)'!G6 -> 0 | D10: =IF(B10="kaikki",'Tulot (E_K)'!$M$29,IFERROR(VLOOKUP(B10,'Tulot (E_K)'!$A$5:$M$29,13,FALSE),0)) -> 0 | E10: =IF(D10=0,"", C10/($B$6*D10)) | F10: =IF(E10="","", E10*12) | G10: =IF(E10="","", TODAY() + ROUND(E10*365,0))
A11: ='Menot (E_K)'!A7 -> Investointi 3 | B11: ='Menot (E_K)'!B7 -> kaikki | C11: ='Menot (E_K)'!G7 -> 0 | D11: =IF(B11="kaikki",'Tulot (E_K)'!$M$29,IFERROR(VLOOKUP(B11,'Tulot (E_K)'!$A$5:$M$29,13,FALSE),0)) -> 0 | E11: =IF(D11=0,"", C11/($B$6*D11)) | F11: =IF(E11="","", E11*12) | G11: =IF(E11="","", TODAY() + ROUND(E11*365,0))
A12: ='Menot (E_K)'!A8 -> Investointi 4 | B12: ='Menot (E_K)'!B8 -> kaikki | C12: ='Menot (E_K)'!G8 -> 0 | D12: =IF(B12="kaikki",'Tulot (E_K)'!$M$29,IFERROR(VLOOKUP(B12,'Tulot (E_K)'!$A$5:$M$29,13,FALSE),0)) -> 0 | E12: =IF(D12=0,"", C12/($B$6*D12)) | F12: =IF(E12="","", E12*12) | G12: =IF(E12="","", TODAY() + ROUND(E12*365,0))
A13: ='Menot (E_K)'!A9 -> Investointi 5 | B13: ='Menot (E_K)'!B9 -> kaikki | C13: ='Menot (E_K)'!G9 -> 0 | D13: =IF(B13="kaikki",'Tulot (E_K)'!$M$29,IFERROR(VLOOKUP(B13,'Tulot (E_K)'!$A$5:$M$29,13,FALSE),0)) -> 0 | E13: =IF(D13=0,"", C13/($B$6*D13)) | F13: =IF(E13="","", E13*12) | G13: =IF(E13="","", TODAY() + ROUND(E13*365,0))
A14: ='Menot (E_K)'!A10 -> Investointi 6 | B14: ='Menot (E_K)'!B10 -> kaikki | C14: ='Menot (E_K)'!G10 -> 0 | D14: =IF(B14="kaikki",'Tulot (E_K)'!$M$29,IFERROR(VLOOKUP(B14,'Tulot (E_K)'!$A$5:$M$29,13,FALSE),0)) -> 0 | E14: =IF(D14=0,"", C14/($B$6*D14)) | F14: =IF(E14="","", E14*12) | G14: =IF(E14="","", TODAY() + ROUND(E14*365,0))
A15: ='Menot (E_K)'!A11 -> Investointi 7 | B15: ='Menot (E_K)'!B11 -> kaikki | C15: ='Menot (E_K)'!G11 -> 0 | D15: =IF(B15="kaikki",'Tulot (E_K)'!$M$29,IFERROR(VLOOKUP(B15,'Tulot (E_K)'!$A$5:$M$29,13,FALSE),0)) -> 0 | E15: =IF(D15=0,"", C15/($B$6*D15)) | F15: =IF(E15="","", E15*12) | G15: =IF(E15="","", TODAY() + ROUND(E15*365,0))
A16: ='Menot (E_K)'!A12 -> Investointi 8 | B16: ='Menot (E_K)'!B12 -> kaikki | C16: ='Menot (E_K)'!G12 -> 0 | D16: =IF(B16="kaikki",'Tulot (E_K)'!$M$29,IFERROR(VLOOKUP(B16,'Tulot (E_K)'!$A$5:$M$29,13,FALSE),0)) -> 0 | E16: =IF(D16=0,"", C16/($B$6*D16)) | F16: =IF(E16="","", E16*12) | G16: =IF(E16="","", TODAY() + ROUND(E16*365,0))
A17: ='Menot (E_K)'!A13 -> Investointi 9 | B17: ='Menot (E_K)'!B13 -> kaikki | C17: ='Menot (E_K)'!G13 -> 0 | D17: =IF(B17="kaikki",'Tulot (E_K)'!$M$29,IFERROR(VLOOKUP(B17,'Tulot (E_K)'!$A$5:$M$29,13,FALSE),0)) -> 0 | E17: =IF(D17=0,"", C17/($B$6*D17)) | F17: =IF(E17="","", E17*12) | G17: =IF(E17="","", TODAY() + ROUND(E17*365,0))
A18: ='Menot (E_K)'!A14 -> Investointi 10 | B18: ='Menot (E_K)'!B14 -> kaikki | C18: ='Menot (E_K)'!G14 -> 0 | D18: =IF(B18="kaikki",'Tulot (E_K)'!$M$29,IFERROR(VLOOKUP(B18,'Tulot (E_K)'!$A$5:$M$29,13,FALSE),0)) -> 0 | E18: =IF(D18=0,"", C18/($B$6*D18)) | F18: =IF(E18="","", E18*12) | G18: =IF(E18="","", TODAY() + ROUND(E18*365,0))

Sheet Menot (ER)
A1: Menot ja investoinnit (kg-jakoperuste) - Eläinrehu
A2: Ohje: Täytä vihreät kentät : Investoinneissa arvioi käyttöikä vuosina sekä mahdollinen jäännösarvo käyttöiän jälkeen - oletuksena Jäännösarvo 0. Jakoperuste 'kaikki': kg.
A3: Kirjoita kohdistus-kenttään "kaikki" tai vaihtoehtoisesti yksilöity Nimike, jolle kulu kohdistuu suoraan esim. "putkiluut"
A4: Menolaji | B4: Kohdistus | C4: Määrän MUUTOS | D4: €/yksikkö | E4: määrä_yksikkö | F4: Kustannus_eur_laskentaerä | G4: investointi_eur | H4: Käyttöikä_v | I4: Jäännösarvo_eur | J4: Poisto_eur_vuosi | K4: Kustannus_yht
A5: Investointi 1 | B5: kaikki | G5: 0 | H5: 5 | I5: 0 | J5: =IF(G5="", "", (G5-I5)/H5) -> 0 | K5: =IFERROR(N(F5)+N(J5), N(F5)+0) -> 0
A6: Investointi 2 | B6: kaikki | G6: 0 | H6: 5 | I6: 0 | J6: =IF(G6="", "", (G6-I6)/H6) -> 0 | K6: =IFERROR(N(F6)+N(J6), N(F6)+0) -> 0
A7: Investointi 3 | B7: kaikki | G7: 0 | H7: 5 | I7: 0 | J7: =IF(G7="", "", (G7-I7)/H7) -> 0 | K7: =IFERROR(N(F7)+N(J7), N(F7)+0) -> 0
A8: Investointi 4 | B8: kaikki | G8: 0 | H8: 5 | I8: 0 | J8: =IF(G8="", "", (G8-I8)/H8) -> 0 | K8: =IFERROR(N(F8)+N(J8), N(F8)+0) -> 0
A9: Investointi 5 | B9: kaikki | G9: 0 | H9: 5 | I9: 0 | J9: =IF(G9="", "", (G9-I9)/H9) -> 0 | K9: =IFERROR(N(F9)+N(J9), N(F9)+0) -> 0
A10: Investointi 6 | B10: kaikki | G10: 0 | H10: 5 | I10: 0 | J10: =IF(G10="", "", (G10-I10)/H10) -> 0 | K10: =IFERROR(N(F10)+N(J10), N(F10)+0) -> 0
A11: Investointi 7 | B11: kaikki | G11: 0 | H11: 5 | I11: 0 | J11: =IF(G11="", "", (G11-I11)/H11) -> 0 | K11: =IFERROR(N(F11)+N(J11), N(F11)+0) -> 0
A12: Investointi 8 | B12: kaikki | G12: 0 | H12: 5 | I12: 0 | J12: =IF(G12="", "", (G12-I12)/H12) -> 0 | K12: =IFERROR(N(F12)+N(J12), N(F12)+0) -> 0
A13: Investointi 9 | B13: kaikki | G13: 0 | H13: 5 | I13: 0 | J13: =IF(G13="", "", (G13-I13)/H13) -> 0 | K13: =IFERROR(N(F13)+N(J13), N(F13)+0) -> 0
A14: Investointi 10 | B14: kaikki | G14: 0 | H14: 5 | I14: 0 | J14: =IF(G14="", "", (G14-I14)/H14) -> 0 | K14: =IFERROR(N(F14)+N(J14), N(F14)+0) -> 0
A15: Menoerä 1 | B15: kaikki | F15: 0 | J15: =IF(G15="", "", (G15-I15)/H15) | K15: =IFERROR(N(F15)+N(J15), N(F15)+0) -> 0
A16: Menoerä 2 | B16: kaikki | F16: 0 | J16: =IF(G16="", "", (G16-I16)/H16) | K16: =IFERROR(N(F16)+N(J16), N(F16)+0) -> 0
A17: Menoerä 3 | B17: kaikki | F17: 0 | J17: =IF(G17="", "", (G17-I17)/H17) | K17: =IFERROR(N(F17)+N(J17), N(F17)+0) -> 0
A18: Menoerä 4 | B18: kaikki | F18: 0 | K18: =IFERROR(N(F18)+N(J18), N(F18)+0) -> 0
A19: Menoerä 5 | B19: kaikki | F19: 0 | K19: =IFERROR(N(F19)+N(J19), N(F19)+0) -> 0
A20: Menoerä 6 | B20: kaikki | F20: 0 | K20: =IFERROR(N(F20)+N(J20), N(F20)+0) -> 0
A21: Menoerä 7 | B21: kaikki | F21: 0 | K21: =IFERROR(N(F21)+N(J21), N(F21)+0) -> 0
A22: Menoerä 8 | B22: kaikki | F22: 0 | K22: =IFERROR(N(F22)+N(J22), N(F22)+0) -> 0
A23: Menoerä 9 | B23: kaikki | F23: 0 | K23: =IFERROR(N(F23)+N(J23), N(F23)+0) -> 0
A24: Menoerä 10 | B24: kaikki | F24: 0 | K24: =IFERROR(N(F24)+N(J24), N(F24)+0) -> 0
A25: Sähkö | B25: kaikki | C25: 0 | D25: 0 | E25: kWh | F25: =C25*D25 -> 0 | J25: =IF(G25="", "", (G25-I25)/H25) | K25: =IFERROR(N(F25)+N(J25), N(F25)+0) -> 0
A26: Vesi | B26: kaikki | C26: 0 | D26: 0 | E26: m3 | F26: =C26*D26 -> 0 | J26: =IF(G26="", "", (G26-I26)/H26) | K26: =IFERROR(N(F26)+N(J26), N(F26)+0) -> 0
A27: Jätekustannukset | B27: kaikki | C27: 0 | D27: 0 | E27: tonnia | F27: =C27*D27 -> 0 | J27: =IF(G27="", "", (G27-I27)/H27) | K27: =IFERROR(N(F27)+N(J27), N(F27)+0) -> 0
E28: Yhteensä | F28: =SUM(F5:F27) -> 0 | G28: =SUM(G5:G27) -> 0 | J28: =SUM(J5:J27) -> 0 | K28: =SUM(K5:K27) -> 0
A31: Kohdistus (kg-jakoperuste 'kaikki'-riveille) — tulos €/kg per nimike
B32: Kokonais-kg (Saannot) | C32: =SUM(Saannot!Y19:Y44) -> 0 | E32: Kaikki-pooli (vuosikustannus) € | F32: =SUMIF($B$5:$B$27,"kaikki",$K$5:$K$27) -> 0
A33: Nimike | B33: kg/vuosi | C33: Osuus kaikesta | D33: Suorat € (kohdistus) | E33: Kaikki-pooli € | F33: Yhteensä € | G33: €/kg
A34: =Saannot!A19 -> Rustoluut (lantio, kylkiluu, rintalasta, lapaluu, ranka ja kaula) | B34: =IFERROR(Saannot!Y19,0) -> 0 | C34: =IF($C$32=0,0,B34/$C$32) -> 0 | D34: =SUMIF($B$5:$B$27,A34,$K$5:$K$27) -> 0 | E34: =$F$32*C34 -> 0 | F34: =D34+E34 -> 0 | G34: =IF(B34=0,0,F34/B34) -> 0
A35: =Saannot!A20 -> Putkiluut | B35: =IFERROR(Saannot!Y20,0) -> 0 | C35: =IF($C$32=0,0,B35/$C$32) -> 0 | D35: =SUMIF($B$5:$B$27,A35,$K$5:$K$27) -> 0 | E35: =$F$32*C35 -> 0 | F35: =D35+E35 -> 0 | G35: =IF(B35=0,0,F35/B35) -> 0
A36: =Saannot!A21 -> Potkanpäät | B36: =IFERROR(Saannot!Y21,0) -> 0 | C36: =IF($C$32=0,0,B36/$C$32) -> 0 | D36: =SUMIF($B$5:$B$27,A36,$K$5:$K$27) -> 0 | E36: =$F$32*C36 -> 0 | F36: =D36+E36 -> 0 | G36: =IF(B36=0,0,F36/B36) -> 0
A37: =Saannot!A22 -> Niskajänne | B37: =IFERROR(Saannot!Y22,0) -> 0 | C37: =IF($C$32=0,0,B37/$C$32) -> 0 | D37: =SUMIF($B$5:$B$27,A37,$K$5:$K$27) -> 0 | E37: =$F$32*C37 -> 0 | F37: =D37+E37 -> 0 | G37: =IF(B37=0,0,F37/B37) -> 0
A38: =Saannot!A23 -> Jännetupit | B38: =IFERROR(Saannot!Y23,0) -> 0 | C38: =IF($C$32=0,0,B38/$C$32) -> 0 | D38: =SUMIF($B$5:$B$27,A38,$K$5:$K$27) -> 0 | E38: =$F$32*C38 -> 0 | F38: =D38+E38 -> 0 | G38: =IF(B38=0,0,F38/B38) -> 0
A39: =Saannot!A24 -> Rasvat | B39: =IFERROR(Saannot!Y24,0) -> 0 | C39: =IF($C$32=0,0,B39/$C$32) -> 0 | D39: =SUMIF($B$5:$B$27,A39,$K$5:$K$27) -> 0 | E39: =$F$32*C39 -> 0 | F39: =D39+E39 -> 0 | G39: =IF(B39=0,0,F39/B39) -> 0
A40: =Saannot!A25 -> Kalvot | B40: =IFERROR(Saannot!Y25,0) -> 0 | C40: =IF($C$32=0,0,B40/$C$32) -> 0 | D40: =SUMIF($B$5:$B$27,A40,$K$5:$K$27) -> 0 | E40: =$F$32*C40 -> 0 | F40: =D40+E40 -> 0 | G40: =IF(B40=0,0,F40/B40) -> 0
A41: =Saannot!A26 -> Kaulankärki | B41: =IFERROR(Saannot!Y26,0) -> 0 | C41: =IF($C$32=0,0,B41/$C$32) -> 0 | D41: =SUMIF($B$5:$B$27,A41,$K$5:$K$27) -> 0 | E41: =$F$32*C41 -> 0 | F41: =D41+E41 -> 0 | G41: =IF(B41=0,0,F41/B41) -> 0
A42: =Saannot!A27 -> Osa 1. | B42: =IFERROR(Saannot!Y27,0) -> 0 | C42: =IF($C$32=0,0,B42/$C$32) -> 0 | D42: =SUMIF($B$5:$B$27,A42,$K$5:$K$27) -> 0 | E42: =$F$32*C42 -> 0 | F42: =D42+E42 -> 0 | G42: =IF(B42=0,0,F42/B42) -> 0
A43: =Saannot!A28 -> Osa 2. | B43: =IFERROR(Saannot!Y28,0) -> 0 | C43: =IF($C$32=0,0,B43/$C$32) -> 0 | D43: =SUMIF($B$5:$B$27,A43,$K$5:$K$27) -> 0 | E43: =$F$32*C43 -> 0 | F43: =D43+E43 -> 0 | G43: =IF(B43=0,0,F43/B43) -> 0
A44: =Saannot!A29 -> Osa 3. | B44: =IFERROR(Saannot!Y29,0) -> 0 | C44: =IF($C$32=0,0,B44/$C$32) -> 0 | D44: =SUMIF($B$5:$B$27,A44,$K$5:$K$27) -> 0 | E44: =$F$32*C44 -> 0 | F44: =D44+E44 -> 0 | G44: =IF(B44=0,0,F44/B44) -> 0
A45: =Saannot!A30 -> Lajitelma 1. | B45: =IFERROR(Saannot!Y30,0) -> 0 | C45: =IF($C$32=0,0,B45/$C$32) -> 0 | D45: =SUMIF($B$5:$B$27,A45,$K$5:$K$27) -> 0 | E45: =$F$32*C45 -> 0 | F45: =D45+E45 -> 0 | G45: =IF(B45=0,0,F45/B45) -> 0
... A57: =Saannot!A42 -> 0 | B57: =IFERROR(Saannot!Y42,0) -> 0 | C57: =IF($C$32=0,0,B57/$C$32) -> 0 | D57: =SUMIF($B$5:$B$27,A57,$K$5:$K$27) -> 0 | E57: =$F$32*C57 -> 0 | F57: =D57+E57 -> 0 | G57: =IF(B57=0,0,F57/B57) -> 0
A58: Yhteensä | B58: =SUM(B34:B57) -> 0 | C58: =SUM(C34:C57) -> 0 | D58: =SUM(D34:D57) -> 0 | E58: =SUM(E34:E57) -> 0 | F58: =SUM(F34:F57) -> 0 | G58: =F58/B58 -> #DIV/0!

Sheet  Lisätyö (ER)
A1: Lisätyöstä aiheutuvat kustannukset (€) - Eläinrehu
A3: Ohje: Arvioi lisätyön tuntihinta
A4: Arvioi lisätyön määrä minuutteina per ruho sivuvirroittain (lisätyöaika läpimenoon sekä pakkaamiseen käytetty lisätyöaika)
A5: Mikäli et halua huomioida lisätyön osuutta laskennassa lainkaan, syötä tuntihinnaksi 0,00 EUR
A7: Lisätyön tuntihinta | B7: 0
A8: Lisätyö €/minuutti | B8: =B7/60 -> 0
A9: Ruhomäärät kpl | B9: =Saannot!D15 -> 0
A12: Sivuvirta | B12: Lisätyö minuutteina_per_ruho | C12: Sisältyy lihankäsittelytyöhön | D12: Lisätyön kustannus/min | E12: Lisätyön kustannus yhteensä
A13: ='Menot (ER)'!A34 -> Rustoluut (lantio, kylkiluu, rintalasta, lapaluu, ranka ja kaula) | C13: =IF(B13>0,"EI","Kyllä") -> Kyllä | D13: =IF(C13="Kyllä",0,$B$8) -> 0 | E13: =(B13*$B$9)*D13 -> 0
A14: ='Menot (ER)'!A35 -> Putkiluut | C14: =IF(B14>0,"EI","Kyllä") -> Kyllä | D14: =IF(C14="Kyllä",0,$B$8) -> 0 | E14: =(B14*$B$9)*D14 -> 0
A15: ='Menot (ER)'!A36 -> Potkanpäät | C15: =IF(B15>0,"EI","Kyllä") -> Kyllä | D15: =IF(C15="Kyllä",0,$B$8) -> 0 | E15: =(B15*$B$9)*D15 -> 0
A16: ='Menot (ER)'!A37 -> Niskajänne | C16: =IF(B16>0,"EI","Kyllä") -> Kyllä | D16: =IF(C16="Kyllä",0,$B$8) -> 0 | E16: =(B16*$B$9)*D16 -> 0
A17: ='Menot (ER)'!A38 -> Jännetupit | C17: =IF(B17>0,"EI","Kyllä") -> Kyllä | D17: =IF(C17="Kyllä",0,$B$8) -> 0 | E17: =(B17*$B$9)*D17 -> 0
A18: ='Menot (ER)'!A39 -> Rasvat | C18: =IF(B18>0,"EI","Kyllä") -> Kyllä | D18: =IF(C18="Kyllä",0,$B$8) -> 0 | E18: =(B18*$B$9)*D18 -> 0
A19: ='Menot (ER)'!A40 -> Kalvot | C19: =IF(B19>0,"EI","Kyllä") -> Kyllä | D19: =IF(C19="Kyllä",0,$B$8) -> 0 | E19: =(B19*$B$9)*D19 -> 0
A20: ='Menot (ER)'!A41 -> Kaulankärki | C20: =IF(B20>0,"EI","Kyllä") -> Kyllä | D20: =IF(C20="Kyllä",0,$B$8) -> 0 | E20: =(B20*$B$9)*D20 -> 0
A21: ='Menot (ER)'!A42 -> Osa 1. | C21: =IF(B21>0,"EI","Kyllä") -> Kyllä | D21: =IF(C21="Kyllä",0,$B$8) -> 0 | E21: =(B21*$B$9)*D21 -> 0
A22: ='Menot (ER)'!A43 -> Osa 2. | C22: =IF(B22>0,"EI","Kyllä") -> Kyllä | D22: =IF(C22="Kyllä",0,$B$8) -> 0 | E22: =(B22*$B$9)*D22 -> 0
A23: ='Menot (ER)'!A44 -> Osa 3. | C23: =IF(B23>0,"EI","Kyllä") -> Kyllä | D23: =IF(C23="Kyllä",0,$B$8) -> 0 | E23: =(B23*$B$9)*D23 -> 0
A24: ='Menot (ER)'!A45 -> Lajitelma 1. | C24: =IF(B24>0,"EI","Kyllä") -> Kyllä | D24: =IF(C24="Kyllä",0,$B$8) -> 0 | E24: =(B24*$B$9)*D24 -> 0
... A36: ='Menot (ER)'!A57 -> 0 | C36: =IF(B36>0,"EI","Kyllä") -> Kyllä | D36: =IF(C36="Kyllä",0,$B$8) -> 0 | E36: =(B36*$B$9)*D36 -> 0
D37: Yhteensä | E37: =SUM(E13:E36) -> 0

Sheet Tulot (ER)
A1: Tulot - Eläinrehu | B1: =Saannot!$D$15 -> 0 | C1: Ruhojen määrä (kpl)
A2: Ohje: Syötä Hinta euroina per kg TAI euroina per kpl
A4: tuote | B4: kg_per_teuras | C4: kpl_per_teuras | D4: Hinta_eur_per_kg | E4: Hinta_eur_per_kpl | F4: Teuraat_kpl | G4: Kokonais_kg | H4: Kokonais_kpl | I4: Liikevaihto_eur | J4: Kustannus_eur_kg (Menot) | K4: Kustannus_yht (€) | L4: Lisätyö | M4: Kate (€) | N4: Kate%
A5: =' Lisätyö (ER)'!A13 -> Rustoluut (lantio, kylkiluu, rintalasta, lapaluu, ranka ja kaula) | B5: =Saannot!AA19 -> 0 | C5: =Saannot!AB19 -> 0 | D5: 0 | F5: =$B$1 -> 0 | G5: =N(B5)*N(F5) -> 0 | H5: =N(C5)*N(F5) -> 0 | I5: =N(G5)*N(D5) + N(H5)*N(E5) -> 0 | J5: =IFERROR(VLOOKUP(A5,'Menot (ER)'!$A$34:$G$57,7,FALSE),0) -> 0 | K5: =J5*G5 -> 0 | L5: =' Lisätyö (ER)'!E13 -> 0 | M5: =I5-K5-L5 -> 0 | N5: =M5/I5 -> #DIV/0!
A6: =' Lisätyö (ER)'!A14 -> Putkiluut | B6: =Saannot!AA20 -> 0 | C6: =Saannot!AB20 -> 0 | D6: 0 | F6: =$B$1 -> 0 | G6: =N(B6)*N(F6) -> 0 | H6: =N(C6)*N(F6) -> 0 | I6: =N(G6)*N(D6) + N(H6)*N(E6) -> 0 | J6: =IFERROR(VLOOKUP(A6,'Menot (ER)'!$A$34:$G$57,7,FALSE),0) -> 0 | K6: =J6*G6 -> 0 | L6: =' Lisätyö (ER)'!E14 -> 0 | M6: =I6-K6-L6 -> 0 | N6: =M6/I6 -> #DIV/0!
A7: =' Lisätyö (ER)'!A15 -> Potkanpäät | B7: =Saannot!AA21 -> 0 | C7: =Saannot!AB21 -> 0 | D7: 0 | F7: =$B$1 -> 0 | G7: =N(B7)*N(F7) -> 0 | H7: =N(C7)*N(F7) -> 0 | I7: =N(G7)*N(D7) + N(H7)*N(E7) -> 0 | J7: =IFERROR(VLOOKUP(A7,'Menot (ER)'!$A$34:$G$57,7,FALSE),0) -> 0 | K7: =J7*G7 -> 0 | L7: =' Lisätyö (ER)'!E15 -> 0 | M7: =I7-K7-L7 -> 0 | N7: =M7/I7 -> #DIV/0!
A8: =' Lisätyö (ER)'!A16 -> Niskajänne | B8: =Saannot!AA22 -> 0 | C8: =Saannot!AB22 -> 0 | D8: 0 | F8: =$B$1 -> 0 | G8: =N(B8)*N(F8) -> 0 | H8: =N(C8)*N(F8) -> 0 | I8: =N(G8)*N(D8) + N(H8)*N(E8) -> 0 | J8: =IFERROR(VLOOKUP(A8,'Menot (ER)'!$A$34:$G$57,7,FALSE),0) -> 0 | K8: =J8*G8 -> 0 | L8: =' Lisätyö (ER)'!E16 -> 0 | M8: =I8-K8-L8 -> 0 | N8: =M8/I8 -> #DIV/0!
A9: =' Lisätyö (ER)'!A17 -> Jännetupit | B9: =Saannot!AA23 -> 0 | C9: =Saannot!AB23 -> 0 | D9: 0 | F9: =$B$1 -> 0 | G9: =N(B9)*N(F9) -> 0 | H9: =N(C9)*N(F9) -> 0 | I9: =N(G9)*N(D9) + N(H9)*N(E9) -> 0 | J9: =IFERROR(VLOOKUP(A9,'Menot (ER)'!$A$34:$G$57,7,FALSE),0) -> 0 | K9: =J9*G9 -> 0 | L9: =' Lisätyö (ER)'!E17 -> 0 | M9: =I9-K9-L9 -> 0 | N9: =M9/I9 -> #DIV/0!
A10: =' Lisätyö (ER)'!A18 -> Rasvat | B10: =Saannot!AA24 -> 0 | C10: =Saannot!AB24 -> 0 | D10: 0 | F10: =$B$1 -> 0 | G10: =N(B10)*N(F10) -> 0 | H10: =N(C10)*N(F10) -> 0 | I10: =N(G10)*N(D10) + N(H10)*N(E10) -> 0 | J10: =IFERROR(VLOOKUP(A10,'Menot (ER)'!$A$34:$G$57,7,FALSE),0) -> 0 | K10: =J10*G10 -> 0 | L10: =' Lisätyö (ER)'!E18 -> 0 | M10: =I10-K10-L10 -> 0 | N10: =M10/I10 -> #DIV/0!
A11: =' Lisätyö (ER)'!A19 -> Kalvot | B11: =Saannot!AA25 -> 0 | C11: =Saannot!AB25 -> 0 | D11: 0 | F11: =$B$1 -> 0 | G11: =N(B11)*N(F11) -> 0 | H11: =N(C11)*N(F11) -> 0 | I11: =N(G11)*N(D11) + N(H11)*N(E11) -> 0 | J11: =IFERROR(VLOOKUP(A11,'Menot (ER)'!$A$34:$G$57,7,FALSE),0) -> 0 | K11: =J11*G11 -> 0 | L11: =' Lisätyö (ER)'!E19 -> 0 | M11: =I11-K11-L11 -> 0 | N11: =M11/I11 -> #DIV/0!
A12: =' Lisätyö (ER)'!A20 -> Kaulankärki | B12: =Saannot!AA26 -> 0 | C12: =Saannot!AB26 -> 0 | D12: 0 | F12: =$B$1 -> 0 | G12: =N(B12)*N(F12) -> 0 | H12: =N(C12)*N(F12) -> 0 | I12: =N(G12)*N(D12) + N(H12)*N(E12) -> 0 | J12: =IFERROR(VLOOKUP(A12,'Menot (ER)'!$A$34:$G$57,7,FALSE),0) -> 0 | K12: =J12*G12 -> 0 | L12: =' Lisätyö (ER)'!E20 -> 0 | M12: =I12-K12-L12 -> 0 | N12: =M12/I12 -> #DIV/0!
A13: =' Lisätyö (ER)'!A21 -> Osa 1. | B13: =Saannot!AA27 -> 0 | C13: =Saannot!AB27 -> 0 | D13: 0 | F13: =$B$1 -> 0 | G13: =N(B13)*N(F13) -> 0 | H13: =N(C13)*N(F13) -> 0 | I13: =N(G13)*N(D13) + N(H13)*N(E13) -> 0 | J13: =IFERROR(VLOOKUP(A13,'Menot (ER)'!$A$34:$G$57,7,FALSE),0) -> 0 | K13: =J13*G13 -> 0 | L13: =' Lisätyö (ER)'!E21 -> 0 | M13: =I13-K13-L13 -> 0 | N13: =M13/I13 -> #DIV/0!
A14: =' Lisätyö (ER)'!A22 -> Osa 2. | B14: =Saannot!AA28 -> 0 | C14: =Saannot!AB28 -> 0 | D14: 0 | F14: =$B$1 -> 0 | G14: =N(B14)*N(F14) -> 0 | H14: =N(C14)*N(F14) -> 0 | I14: =N(G14)*N(D14) + N(H14)*N(E14) -> 0 | J14: =IFERROR(VLOOKUP(A14,'Menot (ER)'!$A$34:$G$57,7,FALSE),0) -> 0 | K14: =J14*G14 -> 0 | L14: =' Lisätyö (ER)'!E22 -> 0 | M14: =I14-K14-L14 -> 0 | N14: =M14/I14 -> #DIV/0!
A15: =' Lisätyö (ER)'!A23 -> Osa 3. | B15: =Saannot!AA29 -> 0 | C15: =Saannot!AB29 -> 0 | D15: 0 | F15: =$B$1 -> 0 | G15: =N(B15)*N(F15) -> 0 | H15: =N(C15)*N(F15) -> 0 | I15: =N(G15)*N(D15) + N(H15)*N(E15) -> 0 | J15: =IFERROR(VLOOKUP(A15,'Menot (ER)'!$A$34:$G$57,7,FALSE),0) -> 0 | K15: =J15*G15 -> 0 | L15: =' Lisätyö (ER)'!E23 -> 0 | M15: =I15-K15-L15 -> 0 | N15: =M15/I15 -> #DIV/0!
A16: =' Lisätyö (ER)'!A24 -> Lajitelma 1. | B16: =Saannot!AA30 -> 0 | C16: =Saannot!AB30 -> 0 | D16: 0 | F16: =$B$1 -> 0 | G16: =N(B16)*N(F16) -> 0 | H16: =N(C16)*N(F16) -> 0 | I16: =N(G16)*N(D16) + N(H16)*N(E16) -> 0 | J16: =IFERROR(VLOOKUP(A16,'Menot (ER)'!$A$34:$G$57,7,FALSE),0) -> 0 | K16: =J16*G16 -> 0 | L16: =' Lisätyö (ER)'!E24 -> 0 | M16: =I16-K16-L16 -> 0 | N16: =M16/I16 -> #DIV/0!
A17: =' Lisätyö (ER)'!A25 -> Lajitelma 2. | B17: =Saannot!AA31 -> 0 | C17: =Saannot!AB31 -> 0 | F17: =$B$1 -> 0 | G17: =N(B17)*N(F17) -> 0 | H17: =N(C17)*N(F17) -> 0 | I17: =N(G17)*N(D17) + N(H17)*N(E17) -> 0 | J17: =IFERROR(VLOOKUP(A17,'Menot (ER)'!$A$34:$G$57,7,FALSE),0) -> 0 | K17: =J17*G17 -> 0 | L17: =' Lisätyö (ER)'!E25 -> 0 | M17: =I17-K17-L17 -> 0 | N17: =M17/I17 -> #DIV/0!
A18: =' Lisätyö (ER)'!A26 -> Lajitelma 3. | B18: =Saannot!AA32 -> 0 | C18: =Saannot!AB32 -> 0 | F18: =$B$1 -> 0 | G18: =N(B18)*N(F18) -> 0 | H18: =N(C18)*N(F18) -> 0 | I18: =N(G18)*N(D18) + N(H18)*N(E18) -> 0 | J18: =IFERROR(VLOOKUP(A18,'Menot (ER)'!$A$34:$G$57,7,FALSE),0) -> 0 | K18: =J18*G18 -> 0 | L18: =' Lisätyö (ER)'!E26 -> 0 | M18: =I18-K18-L18 -> 0 | N18: =M18/I18 -> #DIV/0!
A19: =' Lisätyö (ER)'!A27 -> 0 | B19: =Saannot!AA33 -> 0 | C19: =Saannot!AB33 -> 0 | F19: =$B$1 -> 0 | G19: =N(B19)*N(F19) -> 0 | H19: =N(C19)*N(F19) -> 0 | I19: =N(G19)*N(D19) + N(H19)*N(E19) -> 0 | J19: =IFERROR(VLOOKUP(A19,'Menot (ER)'!$A$34:$G$57,7,FALSE),0) -> 0 | K19: =J19*G19 -> 0 | L19: =' Lisätyö (ER)'!E27 -> 0 | M19: =I19-K19-L19 -> 0 | N19: =M19/I19 -> #DIV/0!
A20: =' Lisätyö (ER)'!A28 -> 0 | B20: =Saannot!AA34 -> 0 | C20: =Saannot!AB34 -> 0 | F20: =$B$1 -> 0 | G20: =N(B20)*N(F20) -> 0 | H20: =N(C20)*N(F20) -> 0 | I20: =N(G20)*N(D20) + N(H20)*N(E20) -> 0 | J20: =IFERROR(VLOOKUP(A20,'Menot (ER)'!$A$34:$G$57,7,FALSE),0) -> 0 | K20: =J20*G20 -> 0 | L20: =' Lisätyö (ER)'!E28 -> 0 | M20: =I20-K20-L20 -> 0 | N20: =M20/I20 -> #DIV/0!
A21: =' Lisätyö (ER)'!A29 -> 0 | B21: =Saannot!AA35 -> 0 | C21: =Saannot!AB35 -> 0 | F21: =$B$1 -> 0 | G21: =N(B21)*N(F21) -> 0 | H21: =N(C21)*N(F21) -> 0 | I21: =N(G21)*N(D21) + N(H21)*N(E21) -> 0 | J21: =IFERROR(VLOOKUP(A21,'Menot (ER)'!$A$34:$G$57,7,FALSE),0) -> 0 | K21: =J21*G21 -> 0 | L21: =' Lisätyö (ER)'!E29 -> 0 | M21: =I21-K21-L21 -> 0 | N21: =M21/I21 -> #DIV/0!
A22: =' Lisätyö (ER)'!A30 -> 0 | B22: =Saannot!AA36 -> 0 | C22: =Saannot!AB36 -> 0 | F22: =$B$1 -> 0 | G22: =N(B22)*N(F22) -> 0 | H22: =N(C22)*N(F22) -> 0 | I22: =N(G22)*N(D22) + N(H22)*N(E22) -> 0 | J22: =IFERROR(VLOOKUP(A22,'Menot (ER)'!$A$34:$G$57,7,FALSE),0) -> 0 | K22: =J22*G22 -> 0 | L22: =' Lisätyö (ER)'!E30 -> 0 | M22: =I22-K22-L22 -> 0 | N22: =M22/I22 -> #DIV/0!
A23: =' Lisätyö (ER)'!A31 -> 0 | B23: =Saannot!AA37 -> 0 | C23: =Saannot!AB37 -> 0 | F23: =$B$1 -> 0 | G23: =N(B23)*N(F23) -> 0 | H23: =N(C23)*N(F23) -> 0 | I23: =N(G23)*N(D23) + N(H23)*N(E23) -> 0 | J23: =IFERROR(VLOOKUP(A23,'Menot (ER)'!$A$34:$G$57,7,FALSE),0) -> 0 | K23: =J23*G23 -> 0 | L23: =' Lisätyö (ER)'!E31 -> 0 | M23: =I23-K23-L23 -> 0 | N23: =M23/I23 -> #DIV/0!
A24: =' Lisätyö (ER)'!A32 -> 0 | B24: =Saannot!AA38 -> 0 | C24: =Saannot!AB38 -> 0 | F24: =$B$1 -> 0 | G24: =N(B24)*N(F24) -> 0 | H24: =N(C24)*N(F24) -> 0 | I24: =N(G24)*N(D24) + N(H24)*N(E24) -> 0 | J24: =IFERROR(VLOOKUP(A24,'Menot (ER)'!$A$34:$G$57,7,FALSE),0) -> 0 | K24: =J24*G24 -> 0 | L24: =' Lisätyö (ER)'!E32 -> 0 | M24: =I24-K24-L24 -> 0 | N24: =M24/I24 -> #DIV/0!
A25: =' Lisätyö (ER)'!A33 -> 0 | B25: =Saannot!AA39 -> 0 | C25: =Saannot!AB39 -> 0 | F25: =$B$1 -> 0 | G25: =N(B25)*N(F25) -> 0 | H25: =N(C25)*N(F25) -> 0 | I25: =N(G25)*N(D25) + N(H25)*N(E25) -> 0 | J25: =IFERROR(VLOOKUP(A25,'Menot (ER)'!$A$34:$G$57,7,FALSE),0) -> 0 | K25: =J25*G25 -> 0 | L25: =' Lisätyö (ER)'!E33 -> 0 | M25: =I25-K25-L25 -> 0 | N25: =M25/I25 -> #DIV/0!
A26: =' Lisätyö (ER)'!A34 -> 0 | B26: =Saannot!AA40 -> 0 | C26: =Saannot!AB40 -> 0 | F26: =$B$1 -> 0 | G26: =N(B26)*N(F26) -> 0 | H26: =N(C26)*N(F26) -> 0 | I26: =N(G26)*N(D26) + N(H26)*N(E26) -> 0 | J26: =IFERROR(VLOOKUP(A26,'Menot (ER)'!$A$34:$G$57,7,FALSE),0) -> 0 | K26: =J26*G26 -> 0 | L26: =' Lisätyö (ER)'!E34 -> 0 | M26: =I26-K26-L26 -> 0 | N26: =M26/I26 -> #DIV/0!
A27: =' Lisätyö (ER)'!A35 -> 0 | B27: =Saannot!AA41 -> 0 | C27: =Saannot!AB41 -> 0 | F27: =$B$1 -> 0 | G27: =N(B27)*N(F27) -> 0 | H27: =N(C27)*N(F27) -> 0 | I27: =N(G27)*N(D27) + N(H27)*N(E27) -> 0 | J27: =IFERROR(VLOOKUP(A27,'Menot (ER)'!$A$34:$G$57,7,FALSE),0) -> 0 | K27: =J27*G27 -> 0 | L27: =' Lisätyö (ER)'!E35 -> 0 | M27: =I27-K27-L27 -> 0 | N27: =M27/I27 -> #DIV/0!
A28: =' Lisätyö (ER)'!A36 -> 0 | B28: =Saannot!AA42 -> 0 | C28: =Saannot!AB42 -> 0 | F28: =$B$1 -> 0 | G28: =N(B28)*N(F28) -> 0 | H28: =N(C28)*N(F28) -> 0 | I28: =N(G28)*N(D28) + N(H28)*N(E28) -> 0 | J28: =IFERROR(VLOOKUP(A28,'Menot (ER)'!$A$34:$G$57,7,FALSE),0) -> 0 | K28: =J28*G28 -> 0 | L28: =' Lisätyö (ER)'!E36 -> 0 | M28: =I28-K28-L28 -> 0 | N28: =M28/I28 -> #DIV/0!
A29: Yhteensä | I29: =SUM(I5:I28) -> 0 | K29: =SUM(K5:K28) -> 0 | L29: =SUM(L5:L28) -> 0 | M29: =SUM(M5:M28) -> 0 | N29: =M29/I29 -> #DIV/0!
H30: Tulot yhteensä | I30: =SUM(I5:I28) -> 0
A31: Huom: | B31: Kustannus €/kg-kohdistus toimii kg-nimikkeille. Jos nimikkeellä kg=0 (kpl-tuote), kustannus jää 0 €

Sheet Maksuaika (ER)
A1: Investointien maksuaika (yksinkertainen) - Eläinrehu
A2: Oletus: ilman investointia laatu ei kelpaa → tuotteiden myynti ei ole mahdollista. Maksuaika lasketaan kohteen vuosikatteen perusteella.
A3: Maksuaika (vuotta) = investointi (€) / kohteen kate (€ / vuosi). Kohde = 'kaikki' käyttää kaikkien tuotteiden katetta.
A5: Osuus katteesta, jonka investointi mahdollistaa
A6: Perus | B6: 1
A8: Investointi | B8: Kohde (mihin tarvitaan) | C8: Investointi € | D8: Kohteen kate €/v | E8: Maksuaika v | F8: Maksuaika kk | G8: Katettu pvm
A9: ='Menot (ER)'!A5 -> Investointi 1 | B9: ='Menot (ER)'!B5 -> kaikki | C9: ='Menot (ER)'!G5 -> 0 | D9: =IF(B9="kaikki",'Tulot (ER)'!$M$29,IFERROR(VLOOKUP(B9,'Tulot (ER)'!$A$5:$M$29,13,FALSE),0)) -> 0 | E9: =IF(D9=0,"", C9/($B$6*D9)) | F9: =IF(E9="","", E9*12) | G9: =IF(E9="","", TODAY() + ROUND(E9*365,0))
A10: ='Menot (ER)'!A6 -> Investointi 2 | B10: ='Menot (ER)'!B6 -> kaikki | C10: ='Menot (ER)'!G6 -> 0 | D10: =IF(B10="kaikki",'Tulot (ER)'!$M$29,IFERROR(VLOOKUP(B10,'Tulot (ER)'!$A$5:$M$29,13,FALSE),0)) -> 0 | E10: =IF(D10=0,"", C10/($B$6*D10)) | F10: =IF(E10="","", E10*12) | G10: =IF(E10="","", TODAY() + ROUND(E10*365,0))
A11: ='Menot (ER)'!A7 -> Investointi 3 | B11: ='Menot (ER)'!B7 -> kaikki | C11: ='Menot (ER)'!G7 -> 0 | D11: =IF(B11="kaikki",'Tulot (ER)'!$M$29,IFERROR(VLOOKUP(B11,'Tulot (ER)'!$A$5:$M$29,13,FALSE),0)) -> 0 | E11: =IF(D11=0,"", C11/($B$6*D11)) | F11: =IF(E11="","", E11*12) | G11: =IF(E11="","", TODAY() + ROUND(E11*365,0))
A12: ='Menot (ER)'!A8 -> Investointi 4 | B12: ='Menot (ER)'!B8 -> kaikki | C12: ='Menot (ER)'!G8 -> 0 | D12: =IF(B12="kaikki",'Tulot (ER)'!$M$29,IFERROR(VLOOKUP(B12,'Tulot (ER)'!$A$5:$M$29,13,FALSE),0)) -> 0 | E12: =IF(D12=0,"", C12/($B$6*D12)) | F12: =IF(E12="","", E12*12) | G12: =IF(E12="","", TODAY() + ROUND(E12*365,0))
A13: ='Menot (ER)'!A9 -> Investointi 5 | B13: ='Menot (ER)'!B9 -> kaikki | C13: ='Menot (ER)'!G9 -> 0 | D13: =IF(B13="kaikki",'Tulot (ER)'!$M$29,IFERROR(VLOOKUP(B13,'Tulot (ER)'!$A$5:$M$29,13,FALSE),0)) -> 0 | E13: =IF(D13=0,"", C13/($B$6*D13)) | F13: =IF(E13="","", E13*12) | G13: =IF(E13="","", TODAY() + ROUND(E13*365,0))
A14: ='Menot (ER)'!A10 -> Investointi 6 | B14: ='Menot (ER)'!B10 -> kaikki | C14: ='Menot (ER)'!G10 -> 0 | D14: =IF(B14="kaikki",'Tulot (ER)'!$M$29,IFERROR(VLOOKUP(B14,'Tulot (ER)'!$A$5:$M$29,13,FALSE),0)) -> 0 | E14: =IF(D14=0,"", C14/($B$6*D14)) | F14: =IF(E14="","", E14*12) | G14: =IF(E14="","", TODAY() + ROUND(E14*365,0))
A15: ='Menot (ER)'!A11 -> Investointi 7 | B15: ='Menot (ER)'!B11 -> kaikki | C15: ='Menot (ER)'!G11 -> 0 | D15: =IF(B15="kaikki",'Tulot (ER)'!$M$29,IFERROR(VLOOKUP(B15,'Tulot (ER)'!$A$5:$M$29,13,FALSE),0)) -> 0 | E15: =IF(D15=0,"", C15/($B$6*D15)) | F15: =IF(E15="","", E15*12) | G15: =IF(E15="","", TODAY() + ROUND(E15*365,0))
A16: ='Menot (ER)'!A12 -> Investointi 8 | B16: ='Menot (ER)'!B12 -> kaikki | C16: ='Menot (ER)'!G12 -> 0 | D16: =IF(B16="kaikki",'Tulot (ER)'!$M$29,IFERROR(VLOOKUP(B16,'Tulot (ER)'!$A$5:$M$29,13,FALSE),0)) -> 0 | E16: =IF(D16=0,"", C16/($B$6*D16)) | F16: =IF(E16="","", E16*12) | G16: =IF(E16="","", TODAY() + ROUND(E16*365,0))
A17: ='Menot (ER)'!A13 -> Investointi 9 | B17: ='Menot (ER)'!B13 -> kaikki | C17: ='Menot (ER)'!G13 -> 0 | D17: =IF(B17="kaikki",'Tulot (ER)'!$M$29,IFERROR(VLOOKUP(B17,'Tulot (ER)'!$A$5:$M$29,13,FALSE),0)) -> 0 | E17: =IF(D17=0,"", C17/($B$6*D17)) | F17: =IF(E17="","", E17*12) | G17: =IF(E17="","", TODAY() + ROUND(E17*365,0))
A18: ='Menot (ER)'!A14 -> Investointi 10 | B18: ='Menot (ER)'!B14 -> kaikki | C18: ='Menot (ER)'!G14 -> 0 | D18: =IF(B18="kaikki",'Tulot (ER)'!$M$29,IFERROR(VLOOKUP(B18,'Tulot (ER)'!$A$5:$M$29,13,FALSE),0)) -> 0 | E18: =IF(D18=0,"", C18/($B$6*D18)) | F18: =IF(E18="","", E18*12) | G18: =IF(E18="","", TODAY() + ROUND(E18*365,0))

Sheet Menot (TK)
A1: Menot ja investoinnit (kg-jakoperuste) - Tekninen käyttö
A2: Ohje: Täytä vihreät kentät : Investoinneissa arvioi käyttöikä vuosina sekä mahdollinen jäännösarvo käyttöiän jälkeen - oletuksena Jäännösarvo 0. Jakoperuste 'kaikki': kg.
A3: Kirjoita kohdistus-kenttään "kaikki" tai vaihtoehtoisesti yksilöity Nimike, jolle kulu kohdistuu suoraan esim. "putkiluut"
A4: Menolaji | B4: Kohdistus | C4: Määrän MUUTOS | D4: €/yksikkö | E4: määrä_yksikkö | F4: Kustannus_eur_laskentaerä | G4: investointi_eur | H4: Käyttöikä_v | I4: Jäännösarvo_eur | J4: Poisto_eur_vuosi | K4: Kustannus_yht
A5: Investointi 1 | B5: kaikki | G5: 0 | H5: 5 | I5: 0 | J5: =IF(G5="", "", (G5-I5)/H5) -> 0 | K5: =IFERROR(N(F5)+N(J5), N(F5)+0) -> 0
A6: Investointi 2 | B6: kaikki | G6: 0 | H6: 5 | I6: 0 | J6: =IF(G6="", "", (G6-I6)/H6) -> 0 | K6: =IFERROR(N(F6)+N(J6), N(F6)+0) -> 0
A7: Investointi 3 | B7: kaikki | G7: 0 | H7: 5 | I7: 0 | J7: =IF(G7="", "", (G7-I7)/H7) -> 0 | K7: =IFERROR(N(F7)+N(J7), N(F7)+0) -> 0
A8: Investointi 4 | B8: kaikki | G8: 0 | H8: 5 | I8: 0 | J8: =IF(G8="", "", (G8-I8)/H8) -> 0 | K8: =IFERROR(N(F8)+N(J8), N(F8)+0) -> 0
A9: Investointi 5 | B9: kaikki | G9: 0 | H9: 5 | I9: 0 | J9: =IF(G9="", "", (G9-I9)/H9) -> 0 | K9: =IFERROR(N(F9)+N(J9), N(F9)+0) -> 0
A10: Investointi 6 | B10: kaikki | G10: 0 | H10: 5 | I10: 0 | J10: =IF(G10="", "", (G10-I10)/H10) -> 0 | K10: =IFERROR(N(F10)+N(J10), N(F10)+0) -> 0
A11: Investointi 7 | B11: kaikki | G11: 0 | H11: 5 | I11: 0 | J11: =IF(G11="", "", (G11-I11)/H11) -> 0 | K11: =IFERROR(N(F11)+N(J11), N(F11)+0) -> 0
A12: Investointi 8 | B12: kaikki | G12: 0 | H12: 5 | I12: 0 | J12: =IF(G12="", "", (G12-I12)/H12) -> 0 | K12: =IFERROR(N(F12)+N(J12), N(F12)+0) -> 0
A13: Investointi 9 | B13: kaikki | G13: 0 | H13: 5 | I13: 0 | J13: =IF(G13="", "", (G13-I13)/H13) -> 0 | K13: =IFERROR(N(F13)+N(J13), N(F13)+0) -> 0
A14: Investointi 10 | B14: kaikki | G14: 0 | H14: 5 | I14: 0 | J14: =IF(G14="", "", (G14-I14)/H14) -> 0 | K14: =IFERROR(N(F14)+N(J14), N(F14)+0) -> 0
A15: Menoerä 1 | B15: kaikki | F15: 0 | J15: =IF(G15="", "", (G15-I15)/H15) | K15: =IFERROR(N(F15)+N(J15), N(F15)+0) -> 0
A16: Menoerä 2 | B16: kaikki | F16: 0 | J16: =IF(G16="", "", (G16-I16)/H16) | K16: =IFERROR(N(F16)+N(J16), N(F16)+0) -> 0
A17: Menoerä 3 | B17: kaikki | F17: 0 | J17: =IF(G17="", "", (G17-I17)/H17) | K17: =IFERROR(N(F17)+N(J17), N(F17)+0) -> 0
A18: Menoerä 4 | B18: kaikki | F18: 0 | K18: =IFERROR(N(F18)+N(J18), N(F18)+0) -> 0
A19: Menoerä 5 | B19: kaikki | F19: 0 | K19: =IFERROR(N(F19)+N(J19), N(F19)+0) -> 0
A20: Menoerä 6 | B20: kaikki | F20: 0 | K20: =IFERROR(N(F20)+N(J20), N(F20)+0) -> 0
A21: Menoerä 7 | B21: kaikki | F21: 0 | K21: =IFERROR(N(F21)+N(J21), N(F21)+0) -> 0
A22: Menoerä 8 | B22: kaikki | F22: 0 | K22: =IFERROR(N(F22)+N(J22), N(F22)+0) -> 0
A23: Menoerä 9 | B23: kaikki | F23: 0 | K23: =IFERROR(N(F23)+N(J23), N(F23)+0) -> 0
A24: Menoerä 10 | B24: kaikki | F24: 0 | K24: =IFERROR(N(F24)+N(J24), N(F24)+0) -> 0
A25: Sähkö | B25: kaikki | C25: 0 | D25: 0 | E25: kWh | F25: =C25*D25 -> 0 | J25: =IF(G25="", "", (G25-I25)/H25) | K25: =IFERROR(N(F25)+N(J25), N(F25)+0) -> 0
A26: Vesi | B26: kaikki | C26: 0 | D26: 0 | E26: m3 | F26: =C26*D26 -> 0 | J26: =IF(G26="", "", (G26-I26)/H26) | K26: =IFERROR(N(F26)+N(J26), N(F26)+0) -> 0
A27: Jätekustannukset | B27: kaikki | C27: 0 | D27: 0 | E27: tonnia | F27: =C27*D27 -> 0 | J27: =IF(G27="", "", (G27-I27)/H27) | K27: =IFERROR(N(F27)+N(J27), N(F27)+0) -> 0
E28: Yhteensä | F28: =SUM(F5:F27) -> 0 | G28: =SUM(G5:G27) -> 0 | J28: =SUM(J5:J27) -> 0 | K28: =SUM(K5:K27) -> 0
A31: Kohdistus (kg-jakoperuste 'kaikki'-riveille) — tulos €/kg per nimike
B32: Kokonais-kg (Saannot) | C32: =SUM(Saannot!Y19:Y44) -> 0 | E32: Kaikki-pooli (vuosikustannus) € | F32: =SUMIF($B$5:$B$27,"kaikki",$K$5:$K$27) -> 0
A33: Nimike | B33: kg/vuosi | C33: Osuus kaikesta | D33: Suorat € (kohdistus) | E33: Kaikki-pooli € | F33: Yhteensä € | G33: €/kg
A34: =Saannot!A19 -> Rustoluut (lantio, kylkiluu, rintalasta, lapaluu, ranka ja kaula) | B34: =IFERROR(Saannot!Y19,0) -> 0 | C34: =IF($C$32=0,0,B34/$C$32) -> 0 | D34: =SUMIF($B$5:$B$27,A34,$K$5:$K$27) -> 0 | E34: =$F$32*C34 -> 0 | F34: =D34+E34 -> 0 | G34: =IF(B34=0,0,F34/B34) -> 0
A35: =Saannot!A20 -> Putkiluut | B35: =IFERROR(Saannot!Y20,0) -> 0 | C35: =IF($C$32=0,0,B35/$C$32) -> 0 | D35: =SUMIF($B$5:$B$27,A35,$K$5:$K$27) -> 0 | E35: =$F$32*C35 -> 0 | F35: =D35+E35 -> 0 | G35: =IF(B35=0,0,F35/B35) -> 0
A36: =Saannot!A21 -> Potkanpäät | B36: =IFERROR(Saannot!Y21,0) -> 0 | C36: =IF($C$32=0,0,B36/$C$32) -> 0 | D36: =SUMIF($B$5:$B$27,A36,$K$5:$K$27) -> 0 | E36: =$F$32*C36 -> 0 | F36: =D36+E36 -> 0 | G36: =IF(B36=0,0,F36/B36) -> 0
A37: =Saannot!A22 -> Niskajänne | B37: =IFERROR(Saannot!Y22,0) -> 0 | C37: =IF($C$32=0,0,B37/$C$32) -> 0 | D37: =SUMIF($B$5:$B$27,A37,$K$5:$K$27) -> 0 | E37: =$F$32*C37 -> 0 | F37: =D37+E37 -> 0 | G37: =IF(B37=0,0,F37/B37) -> 0
A38: =Saannot!A23 -> Jännetupit | B38: =IFERROR(Saannot!Y23,0) -> 0 | C38: =IF($C$32=0,0,B38/$C$32) -> 0 | D38: =SUMIF($B$5:$B$27,A38,$K$5:$K$27) -> 0 | E38: =$F$32*C38 -> 0 | F38: =D38+E38 -> 0 | G38: =IF(B38=0,0,F38/B38) -> 0
A39: =Saannot!A24 -> Rasvat | B39: =IFERROR(Saannot!Y24,0) -> 0 | C39: =IF($C$32=0,0,B39/$C$32) -> 0 | D39: =SUMIF($B$5:$B$27,A39,$K$5:$K$27) -> 0 | E39: =$F$32*C39 -> 0 | F39: =D39+E39 -> 0 | G39: =IF(B39=0,0,F39/B39) -> 0
A40: =Saannot!A25 -> Kalvot | B40: =IFERROR(Saannot!Y25,0) -> 0 | C40: =IF($C$32=0,0,B40/$C$32) -> 0 | D40: =SUMIF($B$5:$B$27,A40,$K$5:$K$27) -> 0 | E40: =$F$32*C40 -> 0 | F40: =D40+E40 -> 0 | G40: =IF(B40=0,0,F40/B40) -> 0
A41: =Saannot!A26 -> Kaulankärki | B41: =IFERROR(Saannot!Y26,0) -> 0 | C41: =IF($C$32=0,0,B41/$C$32) -> 0 | D41: =SUMIF($B$5:$B$27,A41,$K$5:$K$27) -> 0 | E41: =$F$32*C41 -> 0 | F41: =D41+E41 -> 0 | G41: =IF(B41=0,0,F41/B41) -> 0
A42: =Saannot!A27 -> Osa 1. | B42: =IFERROR(Saannot!Y27,0) -> 0 | C42: =IF($C$32=0,0,B42/$C$32) -> 0 | D42: =SUMIF($B$5:$B$27,A42,$K$5:$K$27) -> 0 | E42: =$F$32*C42 -> 0 | F42: =D42+E42 -> 0 | G42: =IF(B42=0,0,F42/B42) -> 0
A43: =Saannot!A28 -> Osa 2. | B43: =IFERROR(Saannot!Y28,0) -> 0 | C43: =IF($C$32=0,0,B43/$C$32) -> 0 | D43: =SUMIF($B$5:$B$27,A43,$K$5:$K$27) -> 0 | E43: =$F$32*C43 -> 0 | F43: =D43+E43 -> 0 | G43: =IF(B43=0,0,F43/B43) -> 0
A44: =Saannot!A29 -> Osa 3. | B44: =IFERROR(Saannot!Y29,0) -> 0 | C44: =IF($C$32=0,0,B44/$C$32) -> 0 | D44: =SUMIF($B$5:$B$27,A44,$K$5:$K$27) -> 0 | E44: =$F$32*C44 -> 0 | F44: =D44+E44 -> 0 | G44: =IF(B44=0,0,F44/B44) -> 0
A45: =Saannot!A30 -> Lajitelma 1. | B45: =IFERROR(Saannot!Y30,0) -> 0 | C45: =IF($C$32=0,0,B45/$C$32) -> 0 | D45: =SUMIF($B$5:$B$27,A45,$K$5:$K$27) -> 0 | E45: =$F$32*C45 -> 0 | F45: =D45+E45 -> 0 | G45: =IF(B45=0,0,F45/B45) -> 0
... A57: =Saannot!A42 -> 0 | B57: =IFERROR(Saannot!Y42,0) -> 0 | C57: =IF($C$32=0,0,B57/$C$32) -> 0 | D57: =SUMIF($B$5:$B$27,A57,$K$5:$K$27) -> 0 | E57: =$F$32*C57 -> 0 | F57: =D57+E57 -> 0 | G57: =IF(B57=0,0,F57/B57) -> 0
A58: Yhteensä | B58: =SUM(B34:B57) -> 0 | C58: =SUM(C34:C57) -> 0 | D58: =SUM(D34:D57) -> 0 | E58: =SUM(E34:E57) -> 0 | F58: =SUM(F34:F57) -> 0 | G58: =F58/B58 -> #DIV/0!

Sheet  Lisätyö (TK)
A1: Lisätyöstä aiheutuvat kustannukset (€) - Tekninen käyttö
A3: Ohje: Arvioi lisätyön tuntihinta
A4: Arvioi lisätyön määrä minuutteina per ruho sivuvirroittain (lisätyöaika läpimenoon sekä pakkaamiseen käytetty lisätyöaika)
A5: Mikäli et halua huomioida lisätyön osuutta laskennassa lainkaan, syötä tuntihinnaksi 0,00 EUR
A7: Lisätyön tuntihinta | B7: 0
A8: Lisätyö €/minuutti | B8: =B7/60 -> 0
A9: Ruhomäärät kpl | B9: =Saannot!D15 -> 0
A12: Sivuvirta | B12: Lisätyö minuutteina_per_ruho | C12: Sisältyy lihankäsittelytyöhön | D12: Lisätyön kustannus/min | E12: Lisätyön kustannus yhteensä
A13: ='Menot (TK)'!A34 -> Rustoluut (lantio, kylkiluu, rintalasta, lapaluu, ranka ja kaula) | C13: =IF(B13>0,"EI","Kyllä") -> Kyllä | D13: =IF(C13="Kyllä",0,$B$8) -> 0 | E13: =(B13*$B$9)*D13 -> 0
A14: ='Menot (TK)'!A35 -> Putkiluut | C14: =IF(B14>0,"EI","Kyllä") -> Kyllä | D14: =IF(C14="Kyllä",0,$B$8) -> 0 | E14: =(B14*$B$9)*D14 -> 0
A15: ='Menot (TK)'!A36 -> Potkanpäät | C15: =IF(B15>0,"EI","Kyllä") -> Kyllä | D15: =IF(C15="Kyllä",0,$B$8) -> 0 | E15: =(B15*$B$9)*D15 -> 0
A16: ='Menot (TK)'!A37 -> Niskajänne | C16: =IF(B16>0,"EI","Kyllä") -> Kyllä | D16: =IF(C16="Kyllä",0,$B$8) -> 0 | E16: =(B16*$B$9)*D16 -> 0
A17: ='Menot (TK)'!A38 -> Jännetupit | C17: =IF(B17>0,"EI","Kyllä") -> Kyllä | D17: =IF(C17="Kyllä",0,$B$8) -> 0 | E17: =(B17*$B$9)*D17 -> 0
A18: ='Menot (TK)'!A39 -> Rasvat | C18: =IF(B18>0,"EI","Kyllä") -> Kyllä | D18: =IF(C18="Kyllä",0,$B$8) -> 0 | E18: =(B18*$B$9)*D18 -> 0
A19: ='Menot (TK)'!A40 -> Kalvot | C19: =IF(B19>0,"EI","Kyllä") -> Kyllä | D19: =IF(C19="Kyllä",0,$B$8) -> 0 | E19: =(B19*$B$9)*D19 -> 0
A20: ='Menot (TK)'!A41 -> Kaulankärki | C20: =IF(B20>0,"EI","Kyllä") -> Kyllä | D20: =IF(C20="Kyllä",0,$B$8) -> 0 | E20: =(B20*$B$9)*D20 -> 0
A21: ='Menot (TK)'!A42 -> Osa 1. | C21: =IF(B21>0,"EI","Kyllä") -> Kyllä | D21: =IF(C21="Kyllä",0,$B$8) -> 0 | E21: =(B21*$B$9)*D21 -> 0
A22: ='Menot (TK)'!A43 -> Osa 2. | C22: =IF(B22>0,"EI","Kyllä") -> Kyllä | D22: =IF(C22="Kyllä",0,$B$8) -> 0 | E22: =(B22*$B$9)*D22 -> 0
A23: ='Menot (TK)'!A44 -> Osa 3. | C23: =IF(B23>0,"EI","Kyllä") -> Kyllä | D23: =IF(C23="Kyllä",0,$B$8) -> 0 | E23: =(B23*$B$9)*D23 -> 0
A24: ='Menot (TK)'!A45 -> Lajitelma 1. | C24: =IF(B24>0,"EI","Kyllä") -> Kyllä | D24: =IF(C24="Kyllä",0,$B$8) -> 0 | E24: =(B24*$B$9)*D24 -> 0
... A36: ='Menot (TK)'!A57 -> 0 | C36: =IF(B36>0,"EI","Kyllä") -> Kyllä | D36: =IF(C36="Kyllä",0,$B$8) -> 0 | E36: =(B36*$B$9)*D36 -> 0
D37: Yhteensä | E37: =SUM(E13:E36) -> 0

Sheet Tulot (TK)
A1: Tulot - Tekninen käyttö | B1: =Saannot!$D$15 -> 0 | C1: Ruhojen määrä (kpl)
A2: Ohje: Syötä Hinta euroina per kg TAI euroina per kpl
A4: tuote | B4: kg_per_teuras | C4: kpl_per_teuras | D4: Hinta_eur_per_kg | E4: Hinta_eur_per_kpl | F4: Teuraat_kpl | G4: Kokonais_kg | H4: Kokonais_kpl | I4: Liikevaihto_eur | J4: Kustannus_eur_kg (Menot) | K4: Kustannus_yht (€) | L4: Lisätyö | M4: Kate (€) | N4: Kate%
A5: =' Lisätyö (TK)'!A13 -> Rustoluut (lantio, kylkiluu, rintalasta, lapaluu, ranka ja kaula) | B5: =Saannot!AA19 -> 0 | C5: =Saannot!AB19 -> 0 | D5: 0 | F5: =$B$1 -> 0 | G5: =N(B5)*N(F5) -> 0 | H5: =N(C5)*N(F5) -> 0 | I5: =N(G5)*N(D5) + N(H5)*N(E5) -> 0 | J5: =IFERROR(VLOOKUP(A5,'Menot (TK)'!$A$34:$G$57,7,FALSE),0) -> 0 | K5: =J5*G5 -> 0 | L5: =' Lisätyö (TK)'!E13 -> 0 | M5: =I5-K5-L5 -> 0 | N5: =M5/I5 -> #DIV/0!
A6: =' Lisätyö (TK)'!A14 -> Putkiluut | B6: =Saannot!AA20 -> 0 | C6: =Saannot!AB20 -> 0 | D6: 0 | F6: =$B$1 -> 0 | G6: =N(B6)*N(F6) -> 0 | H6: =N(C6)*N(F6) -> 0 | I6: =N(G6)*N(D6) + N(H6)*N(E6) -> 0 | J6: =IFERROR(VLOOKUP(A6,'Menot (TK)'!$A$34:$G$57,7,FALSE),0) -> 0 | K6: =J6*G6 -> 0 | L6: =' Lisätyö (TK)'!E14 -> 0 | M6: =I6-K6-L6 -> 0 | N6: =M6/I6 -> #DIV/0!
A7: =' Lisätyö (TK)'!A15 -> Potkanpäät | B7: =Saannot!AA21 -> 0 | C7: =Saannot!AB21 -> 0 | D7: 0 | F7: =$B$1 -> 0 | G7: =N(B7)*N(F7) -> 0 | H7: =N(C7)*N(F7) -> 0 | I7: =N(G7)*N(D7) + N(H7)*N(E7) -> 0 | J7: =IFERROR(VLOOKUP(A7,'Menot (TK)'!$A$34:$G$57,7,FALSE),0) -> 0 | K7: =J7*G7 -> 0 | L7: =' Lisätyö (TK)'!E15 -> 0 | M7: =I7-K7-L7 -> 0 | N7: =M7/I7 -> #DIV/0!
A8: =' Lisätyö (TK)'!A16 -> Niskajänne | B8: =Saannot!AA22 -> 0 | C8: =Saannot!AB22 -> 0 | D8: 0 | F8: =$B$1 -> 0 | G8: =N(B8)*N(F8) -> 0 | H8: =N(C8)*N(F8) -> 0 | I8: =N(G8)*N(D8) + N(H8)*N(E8) -> 0 | J8: =IFERROR(VLOOKUP(A8,'Menot (TK)'!$A$34:$G$57,7,FALSE),0) -> 0 | K8: =J8*G8 -> 0 | L8: =' Lisätyö (TK)'!E16 -> 0 | M8: =I8-K8-L8 -> 0 | N8: =M8/I8 -> #DIV/0!
A9: =' Lisätyö (TK)'!A17 -> Jännetupit | B9: =Saannot!AA23 -> 0 | C9: =Saannot!AB23 -> 0 | D9: 0 | F9: =$B$1 -> 0 | G9: =N(B9)*N(F9) -> 0 | H9: =N(C9)*N(F9) -> 0 | I9: =N(G9)*N(D9) + N(H9)*N(E9) -> 0 | J9: =IFERROR(VLOOKUP(A9,'Menot (TK)'!$A$34:$G$57,7,FALSE),0) -> 0 | K9: =J9*G9 -> 0 | L9: =' Lisätyö (TK)'!E17 -> 0 | M9: =I9-K9-L9 -> 0 | N9: =M9/I9 -> #DIV/0!
A10: =' Lisätyö (TK)'!A18 -> Rasvat | B10: =Saannot!AA24 -> 0 | C10: =Saannot!AB24 -> 0 | D10: 0 | F10: =$B$1 -> 0 | G10: =N(B10)*N(F10) -> 0 | H10: =N(C10)*N(F10) -> 0 | I10: =N(G10)*N(D10) + N(H10)*N(E10) -> 0 | J10: =IFERROR(VLOOKUP(A10,'Menot (TK)'!$A$34:$G$57,7,FALSE),0) -> 0 | K10: =J10*G10 -> 0 | L10: =' Lisätyö (TK)'!E18 -> 0 | M10: =I10-K10-L10 -> 0 | N10: =M10/I10 -> #DIV/0!
A11: =' Lisätyö (TK)'!A19 -> Kalvot | B11: =Saannot!AA25 -> 0 | C11: =Saannot!AB25 -> 0 | F11: =$B$1 -> 0 | G11: =N(B11)*N(F11) -> 0 | H11: =N(C11)*N(F11) -> 0 | I11: =N(G11)*N(D11) + N(H11)*N(E11) -> 0 | J11: =IFERROR(VLOOKUP(A11,'Menot (TK)'!$A$34:$G$57,7,FALSE),0) -> 0 | K11: =J11*G11 -> 0 | L11: =' Lisätyö (TK)'!E19 -> 0 | M11: =I11-K11-L11 -> 0 | N11: =M11/I11 -> #DIV/0!
A12: =' Lisätyö (TK)'!A20 -> Kaulankärki | B12: =Saannot!AA26 -> 0 | C12: =Saannot!AB26 -> 0 | F12: =$B$1 -> 0 | G12: =N(B12)*N(F12) -> 0 | H12: =N(C12)*N(F12) -> 0 | I12: =N(G12)*N(D12) + N(H12)*N(E12) -> 0 | J12: =IFERROR(VLOOKUP(A12,'Menot (TK)'!$A$34:$G$57,7,FALSE),0) -> 0 | K12: =J12*G12 -> 0 | L12: =' Lisätyö (TK)'!E20 -> 0 | M12: =I12-K12-L12 -> 0 | N12: =M12/I12 -> #DIV/0!
A13: =' Lisätyö (TK)'!A21 -> Osa 1. | B13: =Saannot!AA27 -> 0 | C13: =Saannot!AB27 -> 0 | F13: =$B$1 -> 0 | G13: =N(B13)*N(F13) -> 0 | H13: =N(C13)*N(F13) -> 0 | I13: =N(G13)*N(D13) + N(H13)*N(E13) -> 0 | J13: =IFERROR(VLOOKUP(A13,'Menot (TK)'!$A$34:$G$57,7,FALSE),0) -> 0 | K13: =J13*G13 -> 0 | L13: =' Lisätyö (TK)'!E21 -> 0 | M13: =I13-K13-L13 -> 0 | N13: =M13/I13 -> #DIV/0!
A14: =' Lisätyö (TK)'!A22 -> Osa 2. | B14: =Saannot!AA28 -> 0 | C14: =Saannot!AB28 -> 0 | F14: =$B$1 -> 0 | G14: =N(B14)*N(F14) -> 0 | H14: =N(C14)*N(F14) -> 0 | I14: =N(G14)*N(D14) + N(H14)*N(E14) -> 0 | J14: =IFERROR(VLOOKUP(A14,'Menot (TK)'!$A$34:$G$57,7,FALSE),0) -> 0 | K14: =J14*G14 -> 0 | L14: =' Lisätyö (TK)'!E22 -> 0 | M14: =I14-K14-L14 -> 0 | N14: =M14/I14 -> #DIV/0!
A15: =' Lisätyö (TK)'!A23 -> Osa 3. | B15: =Saannot!AA29 -> 0 | C15: =Saannot!AB29 -> 0 | F15: =$B$1 -> 0 | G15: =N(B15)*N(F15) -> 0 | H15: =N(C15)*N(F15) -> 0 | I15: =N(G15)*N(D15) + N(H15)*N(E15) -> 0 | J15: =IFERROR(VLOOKUP(A15,'Menot (TK)'!$A$34:$G$57,7,FALSE),0) -> 0 | K15: =J15*G15 -> 0 | L15: =' Lisätyö (TK)'!E23 -> 0 | M15: =I15-K15-L15 -> 0 | N15: =M15/I15 -> #DIV/0!
A16: =' Lisätyö (TK)'!A24 -> Lajitelma 1. | B16: =Saannot!AA30 -> 0 | C16: =Saannot!AB30 -> 0 | F16: =$B$1 -> 0 | G16: =N(B16)*N(F16) -> 0 | H16: =N(C16)*N(F16) -> 0 | I16: =N(G16)*N(D16) + N(H16)*N(E16) -> 0 | J16: =IFERROR(VLOOKUP(A16,'Menot (TK)'!$A$34:$G$57,7,FALSE),0) -> 0 | K16: =J16*G16 -> 0 | L16: =' Lisätyö (TK)'!E24 -> 0 | M16: =I16-K16-L16 -> 0 | N16: =M16/I16 -> #DIV/0!
A17: =' Lisätyö (TK)'!A25 -> Lajitelma 2. | B17: =Saannot!AA31 -> 0 | C17: =Saannot!AB31 -> 0 | F17: =$B$1 -> 0 | G17: =N(B17)*N(F17) -> 0 | H17: =N(C17)*N(F17) -> 0 | I17: =N(G17)*N(D17) + N(H17)*N(E17) -> 0 | J17: =IFERROR(VLOOKUP(A17,'Menot (TK)'!$A$34:$G$57,7,FALSE),0) -> 0 | K17: =J17*G17 -> 0 | L17: =' Lisätyö (TK)'!E25 -> 0 | M17: =I17-K17-L17 -> 0 | N17: =M17/I17 -> #DIV/0!
A18: =' Lisätyö (TK)'!A26 -> Lajitelma 3. | B18: =Saannot!AA32 -> 0 | C18: =Saannot!AB32 -> 0 | F18: =$B$1 -> 0 | G18: =N(B18)*N(F18) -> 0 | H18: =N(C18)*N(F18) -> 0 | I18: =N(G18)*N(D18) + N(H18)*N(E18) -> 0 | J18: =IFERROR(VLOOKUP(A18,'Menot (TK)'!$A$34:$G$57,7,FALSE),0) -> 0 | K18: =J18*G18 -> 0 | L18: =' Lisätyö (TK)'!E26 -> 0 | M18: =I18-K18-L18 -> 0 | N18: =M18/I18 -> #DIV/0!
A19: =' Lisätyö (TK)'!A27 -> 0 | B19: =Saannot!AA33 -> 0 | C19: =Saannot!AB33 -> 0 | F19: =$B$1 -> 0 | G19: =N(B19)*N(F19) -> 0 | H19: =N(C19)*N(F19) -> 0 | I19: =N(G19)*N(D19) + N(H19)*N(E19) -> 0 | J19: =IFERROR(VLOOKUP(A19,'Menot (TK)'!$A$34:$G$57,7,FALSE),0) -> 0 | K19: =J19*G19 -> 0 | L19: =' Lisätyö (TK)'!E27 -> 0 | M19: =I19-K19-L19 -> 0 | N19: =M19/I19 -> #DIV/0!
A20: =' Lisätyö (TK)'!A28 -> 0 | B20: =Saannot!AA34 -> 0 | C20: =Saannot!AB34 -> 0 | F20: =$B$1 -> 0 | G20: =N(B20)*N(F20) -> 0 | H20: =N(C20)*N(F20) -> 0 | I20: =N(G20)*N(D20) + N(H20)*N(E20) -> 0 | J20: =IFERROR(VLOOKUP(A20,'Menot (TK)'!$A$34:$G$57,7,FALSE),0) -> 0 | K20: =J20*G20 -> 0 | L20: =' Lisätyö (TK)'!E28 -> 0 | M20: =I20-K20-L20 -> 0 | N20: =M20/I20 -> #DIV/0!
A21: =' Lisätyö (TK)'!A29 -> 0 | B21: =Saannot!AA35 -> 0 | C21: =Saannot!AB35 -> 0 | F21: =$B$1 -> 0 | G21: =N(B21)*N(F21) -> 0 | H21: =N(C21)*N(F21) -> 0 | I21: =N(G21)*N(D21) + N(H21)*N(E21) -> 0 | J21: =IFERROR(VLOOKUP(A21,'Menot (TK)'!$A$34:$G$57,7,FALSE),0) -> 0 | K21: =J21*G21 -> 0 | L21: =' Lisätyö (TK)'!E29 -> 0 | M21: =I21-K21-L21 -> 0 | N21: =M21/I21 -> #DIV/0!
A22: =' Lisätyö (TK)'!A30 -> 0 | B22: =Saannot!AA36 -> 0 | C22: =Saannot!AB36 -> 0 | F22: =$B$1 -> 0 | G22: =N(B22)*N(F22) -> 0 | H22: =N(C22)*N(F22) -> 0 | I22: =N(G22)*N(D22) + N(H22)*N(E22) -> 0 | J22: =IFERROR(VLOOKUP(A22,'Menot (TK)'!$A$34:$G$57,7,FALSE),0) -> 0 | K22: =J22*G22 -> 0 | L22: =' Lisätyö (TK)'!E30 -> 0 | M22: =I22-K22-L22 -> 0 | N22: =M22/I22 -> #DIV/0!
... A28: =' Lisätyö (TK)'!A36 -> 0 | B28: =Saannot!AA42 -> 0 | C28: =Saannot!AB42 -> 0 | F28: =$B$1 -> 0 | G28: =N(B28)*N(F28) -> 0 | H28: =N(C28)*N(F28) -> 0 | I28: =N(G28)*N(D28) + N(H28)*N(E28) -> 0 | J28: =IFERROR(VLOOKUP(A28,'Menot (TK)'!$A$34:$G$57,7,FALSE),0) -> 0 | K28: =J28*G28 -> 0 | L28: =' Lisätyö (TK)'!E36 -> 0 | M28: =I28-K28-L28 -> 0 | N28: =M28/I28 -> #DIV/0!
A29: Yhteensä | I29: =SUM(I5:I28) -> 0 | K29: =SUM(K5:K28) -> 0 | L29: =SUM(L5:L28) -> 0 | M29: =SUM(M5:M28) -> 0 | N29: =M29/I29 -> #DIV/0!
H30: Tulot yhteensä | I30: =SUM(I5:I28) -> 0
A31: Huom: | B31: Kustannus €/kg-kohdistus toimii kg-nimikkeille. Jos nimikkeellä kg=0 (kpl-tuote), kustannus jää 0 €

Sheet Maksuaika (TK)
A1: Investointien maksuaika (yksinkertainen)- Tekninen käyttö
A2: Oletus: ilman investointia laatu ei kelpaa → tuotteiden myynti ei ole mahdollista. Maksuaika lasketaan kohteen vuosikatteen perusteella.
A3: Maksuaika (vuotta) = investointi (€) / kohteen kate (€ / vuosi). Kohde = 'kaikki' käyttää kaikkien tuotteiden katetta.
A5: Osuus katteesta, jonka investointi mahdollistaa
A6: Perus | B6: 1
A8: Investointi | B8: Kohde (mihin tarvitaan) | C8: Investointi € | D8: Kohteen kate €/v | E8: Maksuaika v | F8: Maksuaika kk | G8: Katettu pvm
A9: ='Menot (TK)'!A5 -> Investointi 1 | B9: ='Menot (TK)'!B5 -> kaikki | C9: ='Menot (TK)'!G5 -> 0 | D9: =IF(B9="kaikki",'Tulot (TK)'!$M$29,IFERROR(VLOOKUP(B9,'Tulot (TK)'!$A$5:$M$29,13,FALSE),0)) -> 0 | E9: =IF(D9=0,"", C9/($B$6*D9)) | F9: =IF(E9="","", E9*12) | G9: =IF(E9="","", TODAY() + ROUND(E9*365,0))
A10: ='Menot (TK)'!A6 -> Investointi 2 | B10: ='Menot (TK)'!B6 -> kaikki | C10: ='Menot (TK)'!G6 -> 0 | D10: =IF(B10="kaikki",'Tulot (TK)'!$M$29,IFERROR(VLOOKUP(B10,'Tulot (TK)'!$A$5:$M$29,13,FALSE),0)) -> 0 | E10: =IF(D10=0,"", C10/($B$6*D10)) | F10: =IF(E10="","", E10*12) | G10: =IF(E10="","", TODAY() + ROUND(E10*365,0))
A11: ='Menot (TK)'!A7 -> Investointi 3 | B11: ='Menot (TK)'!B7 -> kaikki | C11: ='Menot (TK)'!G7 -> 0 | D11: =IF(B11="kaikki",'Tulot (TK)'!$M$29,IFERROR(VLOOKUP(B11,'Tulot (TK)'!$A$5:$M$29,13,FALSE),0)) -> 0 | E11: =IF(D11=0,"", C11/($B$6*D11)) | F11: =IF(E11="","", E11*12) | G11: =IF(E11="","", TODAY() + ROUND(E11*365,0))
A12: ='Menot (TK)'!A8 -> Investointi 4 | B12: ='Menot (TK)'!B8 -> kaikki | C12: ='Menot (TK)'!G8 -> 0 | D12: =IF(B12="kaikki",'Tulot (TK)'!$M$29,IFERROR(VLOOKUP(B12,'Tulot (TK)'!$A$5:$M$29,13,FALSE),0)) -> 0 | E12: =IF(D12=0,"", C12/($B$6*D12)) | F12: =IF(E12="","", E12*12) | G12: =IF(E12="","", TODAY() + ROUND(E12*365,0))
A13: ='Menot (TK)'!A9 -> Investointi 5 | B13: ='Menot (TK)'!B9 -> kaikki | C13: ='Menot (TK)'!G9 -> 0 | D13: =IF(B13="kaikki",'Tulot (TK)'!$M$29,IFERROR(VLOOKUP(B13,'Tulot (TK)'!$A$5:$M$29,13,FALSE),0)) -> 0 | E13: =IF(D13=0,"", C13/($B$6*D13)) | F13: =IF(E13="","", E13*12) | G13: =IF(E13="","", TODAY() + ROUND(E13*365,0))
A14: ='Menot (TK)'!A10 -> Investointi 6 | B14: ='Menot (TK)'!B10 -> kaikki | C14: ='Menot (TK)'!G10 -> 0 | D14: =IF(B14="kaikki",'Tulot (TK)'!$M$29,IFERROR(VLOOKUP(B14,'Tulot (TK)'!$A$5:$M$29,13,FALSE),0)) -> 0 | E14: =IF(D14=0,"", C14/($B$6*D14)) | F14: =IF(E14="","", E14*12) | G14: =IF(E14="","", TODAY() + ROUND(E14*365,0))
A15: ='Menot (TK)'!A11 -> Investointi 7 | B15: ='Menot (TK)'!B11 -> kaikki | C15: ='Menot (TK)'!G11 -> 0 | D15: =IF(B15="kaikki",'Tulot (TK)'!$M$29,IFERROR(VLOOKUP(B15,'Tulot (TK)'!$A$5:$M$29,13,FALSE),0)) -> 0 | E15: =IF(D15=0,"", C15/($B$6*D15)) | F15: =IF(E15="","", E15*12) | G15: =IF(E15="","", TODAY() + ROUND(E15*365,0))
A16: ='Menot (TK)'!A12 -> Investointi 8 | B16: ='Menot (TK)'!B12 -> kaikki | C16: ='Menot (TK)'!G12 -> 0 | D16: =IF(B16="kaikki",'Tulot (TK)'!$M$29,IFERROR(VLOOKUP(B16,'Tulot (TK)'!$A$5:$M$29,13,FALSE),0)) -> 0 | E16: =IF(D16=0,"", C16/($B$6*D16)) | F16: =IF(E16="","", E16*12) | G16: =IF(E16="","", TODAY() + ROUND(E16*365,0))
A17: ='Menot (TK)'!A13 -> Investointi 9 | B17: ='Menot (TK)'!B13 -> kaikki | C17: ='Menot (TK)'!G13 -> 0 | D17: =IF(B17="kaikki",'Tulot (TK)'!$M$29,IFERROR(VLOOKUP(B17,'Tulot (TK)'!$A$5:$M$29,13,FALSE),0)) -> 0 | E17: =IF(D17=0,"", C17/($B$6*D17)) | F17: =IF(E17="","", E17*12) | G17: =IF(E17="","", TODAY() + ROUND(E17*365,0))
A18: ='Menot (TK)'!A14 -> Investointi 10 | B18: ='Menot (TK)'!B14 -> kaikki | C18: ='Menot (TK)'!G14 -> 0 | D18: =IF(B18="kaikki",'Tulot (TK)'!$M$29,IFERROR(VLOOKUP(B18,'Tulot (TK)'!$A$5:$M$29,13,FALSE),0)) -> 0 | E18: =IF(D18=0,"", C18/($B$6*D18)) | F18: =IF(E18="","", E18*12) | G18: =IF(E18="","", TODAY() + ROUND(E18*365,0))

Sheet _Lists
A1: kohdistus | B1: kohde
A2: kaikki | B2: kaikki
A3: pötsi | B3: pötsi
A4: veri | B4: veri
A5: konttiluu | B5: konttiluu
